##############################################################################
##############################################################################
###
### Running command:
###
### cd ppiStats.buildbin-libdir/ppiStats && zip -r ../../ppiStats_1.42.0.zip . & cd ../..
###
##############################################################################
##############################################################################
adding: DESCRIPTION (264 bytes security) (deflated 38%)
adding: doc/ (304 bytes security) (stored 0%)
adding: doc/index.html (264 bytes security) (deflated 58%)
adding: doc/ppiStats.pdf (264 bytes security) (deflated 17%)
adding: doc/ppiStats.R (264 bytes security) (deflated 77%)
adding: doc/ppiStats.Rnw (264 bytes security) (deflated 63%)
adding: extdata/ (304 bytes security) (stored 0%)
adding: extdata/intacty2hppMatrix.rda (264 bytes security) (deflated 69%)
adding: extdata/PPIpos (264 bytes security) (deflated 68%)
adding: extdata/PPI_18052006.tab (264 bytes security) (deflated 87%)
adding: extdata/supp.Rnw (264 bytes security) (deflated 70%)
adding: extdata/zzz.R (264 bytes security) (deflated 72%)
adding: help/ (304 bytes security) (stored 0%)
adding: help/aliases.rds (264 bytes security) (stored 0%)
adding: help/AnIndex (264 bytes security) (deflated 60%)
adding: help/paths.rds (264 bytes security) (stored 0%)
adding: help/ppiStats.rdb (264 bytes security) (deflated 1%)
adding: help/ppiStats.rdx (264 bytes security) (stored 0%)
adding: html/ (304 bytes security) (stored 0%)
adding: html/00Index.html (264 bytes security) (deflated 74%)
adding: html/R.css (264 bytes security) (deflated 75%)
adding: INDEX (264 bytes security) (deflated 67%)
adding: MD5 (264 bytes security) (deflated 42%)
adding: Meta/ (304 bytes security) (stored 0%)
adding: Meta/features.rds (264 bytes security) (stored 0%)
adding: Meta/hsearch.rds (264 bytes security) (stored 0%)
adding: Meta/links.rds (264 bytes security) (stored 0%)
adding: Meta/nsInfo.rds (264 bytes security) (stored 0%)
adding: Meta/package.rds (264 bytes security) (stored 0%)
adding: Meta/Rd.rds (264 bytes security) (stored 0%)
adding: Meta/vignette.rds (264 bytes security) (stored 0%)
adding: NAMESPACE (264 bytes security) (deflated 48%)
adding: R/ (304 bytes security) (stored 0%)
adding: R/ppiStats (264 bytes security) (deflated 41%)
adding: R/ppiStats.rdb (264 bytes security) (deflated 2%)
adding: R/ppiStats.rdx (264 bytes security) (stored 0%)
adding: Scripts/ (304 bytes security) (stored 0%)
adding: Scripts/hgGO.R (264 bytes security) (deflated 60%)
adding: Scripts/hgPfam.R (264 bytes security) (deflated 78%)