##############################################################################
##############################################################################
###
### Running command:
###
### rm -rf EBSeqHMM.buildbin-libdir && mkdir EBSeqHMM.buildbin-libdir && /Users/biocbuild/BBS/utils/build-universal.sh EBSeqHMM_1.10.0.tar.gz /Library/Frameworks/R.framework/Versions/Current/Resources/bin/R EBSeqHMM.buildbin-libdir
###
##############################################################################
##############################################################################
>>>>>>>
>>>>>>> INSTALLATION WITH 'R CMD INSTALL --preclean --no-multiarch --library=EBSeqHMM.buildbin-libdir EBSeqHMM_1.10.0.tar.gz'
>>>>>>>
* installing *source* package ‘EBSeqHMM’ ...
** R
** data
** demo
** inst
** preparing package for lazy loading
** help
*** installing help indices
** building package indices
** installing vignettes
** testing if installed package can be loaded
* DONE (EBSeqHMM)