##############################################################################
##############################################################################
###
### Running command:
###
### cd EBSeqHMM.buildbin-libdir/EBSeqHMM && zip -r ../../EBSeqHMM_1.10.0.zip . & cd ../..
###
##############################################################################
##############################################################################
adding: data/ (304 bytes security) (stored 0%)
adding: data/GeneExampleData.rda (264 bytes security) (deflated 3%)
adding: data/IsoExampleList.rda (264 bytes security) (deflated 5%)
adding: demo/ (304 bytes security) (stored 0%)
adding: demo/EBSeqHMM.R (264 bytes security) (deflated 68%)
adding: DESCRIPTION (264 bytes security) (deflated 45%)
adding: doc/ (304 bytes security) (stored 0%)
adding: doc/EBSeqHMM_vignette.pdf (264 bytes security) (deflated 8%)
adding: doc/EBSeqHMM_vignette.R (264 bytes security) (deflated 84%)
adding: doc/EBSeqHMM_vignette.Rnw (264 bytes security) (deflated 70%)
adding: doc/index.html (264 bytes security) (deflated 59%)
adding: help/ (304 bytes security) (stored 0%)
adding: help/aliases.rds (264 bytes security) (stored 0%)
adding: help/AnIndex (264 bytes security) (deflated 55%)
adding: help/EBSeqHMM.rdb (264 bytes security) (deflated 1%)
adding: help/EBSeqHMM.rdx (264 bytes security) (stored 0%)
adding: help/paths.rds (264 bytes security) (stored 0%)
adding: html/ (304 bytes security) (stored 0%)
adding: html/00Index.html (264 bytes security) (deflated 68%)
adding: html/R.css (264 bytes security) (deflated 75%)
adding: INDEX (264 bytes security) (deflated 63%)
adding: MD5 (264 bytes security) (deflated 44%)
adding: Meta/ (304 bytes security) (stored 0%)
adding: Meta/data.rds (264 bytes security) (stored 0%)
adding: Meta/demo.rds (264 bytes security) (stored 0%)
adding: Meta/features.rds (264 bytes security) (stored 0%)
adding: Meta/hsearch.rds (264 bytes security) (stored 0%)
adding: Meta/links.rds (264 bytes security) (stored 0%)
adding: Meta/nsInfo.rds (264 bytes security) (stored 0%)
adding: Meta/package.rds (264 bytes security) (stored 0%)
adding: Meta/Rd.rds (264 bytes security) (stored 0%)
adding: Meta/vignette.rds (264 bytes security) (stored 0%)
adding: NAMESPACE (264 bytes security) (deflated 23%)
adding: NEWS (264 bytes security) (stored 0%)
adding: R/ (304 bytes security) (stored 0%)
adding: R/EBSeqHMM (264 bytes security) (deflated 41%)
adding: R/EBSeqHMM.rdb (264 bytes security) (deflated 1%)
adding: R/EBSeqHMM.rdx (264 bytes security) (stored 0%)