##############################################################################
##############################################################################
###
### Running command:
###
### cd hapmapsnp5.buildbin-libdir/hapmapsnp5 && zip -r ../../hapmapsnp5_1.14.0.zip . & cd ../..
###
##############################################################################
##############################################################################
adding: celFiles/ (256 bytes security) (stored 0%)
adding: celFiles/NA06985_GW5_C.CEL (188 bytes security) (deflated 53%)
adding: celFiles/NA06991_GW5_C.CEL (188 bytes security) (deflated 53%)
adding: celFiles/NA06993_GW5_C.CEL (188 bytes security) (deflated 56%)
adding: CITATION (188 bytes security) (deflated 43%)
adding: DESCRIPTION (188 bytes security) (deflated 30%)
adding: help/ (256 bytes security) (stored 0%)
adding: help/aliases.rds (188 bytes security) (stored 0%)
adding: help/AnIndex (188 bytes security) (deflated 57%)
adding: help/hapmapsnp5.rdb (188 bytes security) (stored 0%)
adding: help/hapmapsnp5.rdx (188 bytes security) (stored 0%)
adding: help/paths.rds (188 bytes security) (stored 0%)
adding: html/ (256 bytes security) (stored 0%)
adding: html/00Index.html (188 bytes security) (deflated 54%)
adding: html/R.css (188 bytes security) (deflated 75%)
adding: INDEX (188 bytes security) (deflated 4%)
adding: MD5 (188 bytes security) (deflated 42%)
adding: Meta/ (256 bytes security) (stored 0%)
adding: Meta/hsearch.rds (188 bytes security) (stored 0%)
adding: Meta/links.rds (188 bytes security) (stored 0%)
adding: Meta/nsInfo.rds (188 bytes security) (stored 0%)
adding: Meta/package.rds (188 bytes security) (stored 0%)
adding: Meta/Rd.rds (188 bytes security) (stored 0%)
adding: NAMESPACE (188 bytes security) (stored 0%)
adding: R/ (256 bytes security) (stored 0%)
adding: R/hapmapsnp5 (188 bytes security) (deflated 41%)
adding: R/hapmapsnp5.rdb (188 bytes security) (deflated 11%)
adding: R/hapmapsnp5.rdx (188 bytes security) (stored 0%)