##############################################################################
##############################################################################
###
### Running command:
###
### chmod a+r estrogen -R && E:\biocbld\bbs-3.3-bioc\R\bin\R.exe CMD build --keep-empty-dirs --no-resave-data estrogen
###
##############################################################################
##############################################################################
* checking for file 'estrogen/DESCRIPTION' ... OK
* preparing 'estrogen':
* checking DESCRIPTION meta-information ... OK
* installing the package to build vignettes
* creating vignettes ... OK
* checking for LF line-endings in source and make files
* checking for empty or unneeded directories
* building 'estrogen_1.18.0.tar.gz'