##############################################################################
##############################################################################
###
### Running command:
###
### chmod a+r bronchialIL13 -R && E:\biocbld\bbs-3.3-bioc\R\bin\R.exe CMD build --keep-empty-dirs --no-resave-data bronchialIL13
###
##############################################################################
##############################################################################
* checking for file 'bronchialIL13/DESCRIPTION' ... OK
* preparing 'bronchialIL13':
* checking DESCRIPTION meta-information ... OK
* checking for LF line-endings in source and make files
* checking for empty or unneeded directories
* looking to see if a 'data/datalist' file should be added
* building 'bronchialIL13_1.10.0.tar.gz'