##############################################################################
##############################################################################
###
### Running command:
###
### cd bronchialIL13.buildbin-libdir/bronchialIL13 && zip -r ../../bronchialIL13_1.10.0.zip . & cd ../..
###
##############################################################################
##############################################################################
adding: cel/ (256 bytes security) (stored 0%)
adding: cel/dataoq.zip (188 bytes security) (stored 0%)
adding: data/ (256 bytes security) (stored 0%)
adding: data/datalist (188 bytes security) (stored 0%)
adding: data/HAH.rda (188 bytes security) (deflated 0%)
adding: data/HAHrma.rda (188 bytes security) (deflated 0%)
adding: DESCRIPTION (188 bytes security) (deflated 35%)
adding: help/ (256 bytes security) (stored 0%)
adding: help/aliases.rds (188 bytes security) (stored 0%)
adding: help/AnIndex (188 bytes security) (deflated 22%)
adding: help/bronchialIL13.rdb (188 bytes security) (stored 0%)
adding: help/bronchialIL13.rdx (188 bytes security) (stored 0%)
adding: help/paths.rds (188 bytes security) (stored 0%)
adding: html/ (256 bytes security) (stored 0%)
adding: html/00Index.html (188 bytes security) (deflated 54%)
adding: html/R.css (188 bytes security) (deflated 75%)
adding: INDEX (188 bytes security) (deflated 36%)
adding: MD5 (188 bytes security) (deflated 39%)
adding: Meta/ (256 bytes security) (stored 0%)
adding: Meta/data.rds (188 bytes security) (stored 0%)
adding: Meta/hsearch.rds (188 bytes security) (stored 0%)
adding: Meta/links.rds (188 bytes security) (stored 0%)
adding: Meta/nsInfo.rds (188 bytes security) (stored 0%)
adding: Meta/package.rds (188 bytes security) (stored 0%)
adding: Meta/Rd.rds (188 bytes security) (stored 0%)
adding: NAMESPACE (188 bytes security) (stored 0%)