##############################################################################
##############################################################################
###
### Running command:
###
### rm -rf TBX20BamSubset.buildbin-libdir && mkdir TBX20BamSubset.buildbin-libdir && /Users/biocbuild/BBS/utils/build-universal.sh TBX20BamSubset_1.7.0.tar.gz /Library/Frameworks/R.framework/Versions/Current/Resources/bin/R TBX20BamSubset.buildbin-libdir
###
##############################################################################
##############################################################################
>>>>>>>
>>>>>>> INSTALLATION WITH 'R CMD INSTALL --preclean --no-multiarch --library=TBX20BamSubset.buildbin-libdir TBX20BamSubset_1.7.0.tar.gz'
>>>>>>>
* installing *source* package ‘TBX20BamSubset’ ...
** R
** inst
** preparing package for lazy loading
** help
*** installing help indices
** building package indices
** installing vignettes
** testing if installed package can be loaded
* DONE (TBX20BamSubset)