##############################################################################
##############################################################################
###
### Running command:
###
### /home/biocbuild/bbs-3.3-bioc/R/bin/R CMD build --keep-empty-dirs --no-resave-data RnBeads.rn5
###
##############################################################################
##############################################################################
* checking for file ‘RnBeads.rn5/DESCRIPTION’ ... OK
* preparing ‘RnBeads.rn5’:
* checking DESCRIPTION meta-information ... OK
* checking for LF line-endings in source and make files
* checking for empty or unneeded directories
* looking to see if a ‘data/datalist’ file should be added
* building ‘RnBeads.rn5_1.4.0.tar.gz’