##############################################################################
##############################################################################
###
### Running command:
###
### cd RnBeads.rn5.buildbin-libdir/RnBeads.rn5 && zip -r ../../RnBeads.rn5_1.4.0.zip . & cd ../..
###
##############################################################################
##############################################################################
Scanning files
adding: data/ (256 bytes security) (stored 0%)
adding: data/CpG.RData (188 bytes security) (deflated 0%)
adding: data/datalist (188 bytes security) (stored 0%)
adding: data/regions.RData (188 bytes security) (deflated 0%)
adding: data/rn5.CpG.RData (188 bytes security) (deflated 0%)
adding: data/rn5.RData (188 bytes security) (stored 0%)
adding: data/rn5.regions.RData (188 bytes security) (deflated 0%)
adding: DESCRIPTION (188 bytes security) (deflated 35%)
adding: help/ (256 bytes security) (stored 0%)
adding: help/aliases.rds (188 bytes security) (stored 0%)
adding: help/AnIndex (188 bytes security) (deflated 27%)
adding: help/paths.rds (188 bytes security) (stored 0%)
adding: help/RnBeads.rn5.rdb (188 bytes security) (stored 0%)
adding: help/RnBeads.rn5.rdx (188 bytes security) (stored 0%)
adding: html/ (256 bytes security) (stored 0%)
adding: html/00Index.html (188 bytes security) (deflated 56%)
adding: html/R.css (188 bytes security) (deflated 75%)
adding: INDEX (188 bytes security) (deflated 33%)
adding: MD5 (188 bytes security) (deflated 43%)
adding: Meta/ (256 bytes security) (stored 0%)
adding: Meta/data.rds (188 bytes security) (stored 0%)
adding: Meta/hsearch.rds (188 bytes security) (stored 0%)
adding: Meta/links.rds (188 bytes security) (stored 0%)
adding: Meta/nsInfo.rds (188 bytes security) (stored 0%)
adding: Meta/package.rds (188 bytes security) (stored 0%)
adding: Meta/Rd.rds (188 bytes security) (stored 0%)
adding: NAMESPACE (188 bytes security) (stored 0%)
adding: NEWS (188 bytes security) (deflated 43%)
adding: R/ (256 bytes security) (stored 0%)
adding: R/RnBeads.rn5 (188 bytes security) (deflated 41%)
adding: R/RnBeads.rn5.rdb (188 bytes security) (deflated 24%)
adding: R/RnBeads.rn5.rdx (188 bytes security) (stored 0%)