##############################################################################
##############################################################################
###
### Running command:
###
### /home/biocbuild/bbs-3.3-bioc/R/bin/R CMD build --keep-empty-dirs --no-resave-data NCIgraphData
###
##############################################################################
##############################################################################
* checking for file ‘NCIgraphData/DESCRIPTION’ ... OK
* preparing ‘NCIgraphData’:
* checking DESCRIPTION meta-information ... OK
* checking for LF line-endings in source and make files
* checking for empty or unneeded directories
* looking to see if a ‘data/datalist’ file should be added
* building ‘NCIgraphData_1.8.0.tar.gz’