##############################################################################
##############################################################################
###
### Running command:
###
### cd NCIgraphData.buildbin-libdir/NCIgraphData && zip -r ../../NCIgraphData_1.8.0.zip . & cd ../..
###
##############################################################################
##############################################################################
adding: data/ (256 bytes security) (stored 0%)
adding: data/datalist (188 bytes security) (deflated 39%)
adding: data/Rdata.rdb (188 bytes security) (deflated 2%)
adding: data/Rdata.rds (188 bytes security) (stored 0%)
adding: data/Rdata.rdx (188 bytes security) (stored 0%)
adding: DESCRIPTION (188 bytes security) (deflated 32%)
adding: help/ (256 bytes security) (stored 0%)
adding: help/aliases.rds (188 bytes security) (stored 0%)
adding: help/AnIndex (188 bytes security) (deflated 45%)
adding: help/NCIgraphData.rdb (188 bytes security) (stored 0%)
adding: help/NCIgraphData.rdx (188 bytes security) (stored 0%)
adding: help/paths.rds (188 bytes security) (stored 0%)
adding: html/ (256 bytes security) (stored 0%)
adding: html/00Index.html (188 bytes security) (deflated 52%)
adding: html/R.css (188 bytes security) (deflated 75%)
adding: INDEX (188 bytes security) (deflated 50%)
adding: MD5 (188 bytes security) (deflated 41%)
adding: Meta/ (256 bytes security) (stored 0%)
adding: Meta/data.rds (188 bytes security) (stored 0%)
adding: Meta/hsearch.rds (188 bytes security) (stored 0%)
adding: Meta/links.rds (188 bytes security) (stored 0%)
adding: Meta/nsInfo.rds (188 bytes security) (stored 0%)
adding: Meta/package.rds (188 bytes security) (stored 0%)
adding: Meta/Rd.rds (188 bytes security) (stored 0%)
adding: NAMESPACE (188 bytes security) (stored 0%)