##############################################################################
##############################################################################
###
### Running command:
###
### cd ITALICSData.buildbin-libdir/ITALICSData && zip -r ../../ITALICSData_2.9.0.zip . & cd ../..
###
##############################################################################
##############################################################################
adding: data/ (256 bytes security) (stored 0%)
adding: data/quartetInfo.RData (188 bytes security) (deflated 2%)
adding: data/snpInfo.RData (188 bytes security) (deflated 0%)
adding: DESCRIPTION (188 bytes security) (deflated 31%)
adding: extdata/ (256 bytes security) (stored 0%)
adding: extdata/HF0844_Hind.CEL (188 bytes security) (deflated 48%)
adding: extdata/HF0844_Xba.CEL (188 bytes security) (deflated 48%)
adding: extdata/Hind.QuartetEffect.csv (188 bytes security) (deflated 56%)
adding: extdata/Nsp.QuartetEffect.csv (188 bytes security) (deflated 56%)
adding: extdata/Sty.QuartetEffect.csv (188 bytes security) (deflated 56%)
adding: extdata/Xba.QuartetEffect.csv (188 bytes security) (deflated 56%)
adding: help/ (256 bytes security) (stored 0%)
adding: help/aliases.rds (188 bytes security) (stored 0%)
adding: help/AnIndex (188 bytes security) (deflated 61%)
adding: help/ITALICSData.rdb (188 bytes security) (deflated 3%)
adding: help/ITALICSData.rdx (188 bytes security) (stored 0%)
adding: help/paths.rds (188 bytes security) (stored 0%)
adding: html/ (256 bytes security) (stored 0%)
adding: html/00Index.html (188 bytes security) (deflated 62%)
adding: html/R.css (188 bytes security) (deflated 75%)
adding: INDEX (188 bytes security) (deflated 64%)
adding: MD5 (188 bytes security) (deflated 45%)
adding: Meta/ (256 bytes security) (stored 0%)
adding: Meta/data.rds (188 bytes security) (stored 0%)
adding: Meta/hsearch.rds (188 bytes security) (stored 0%)
adding: Meta/links.rds (188 bytes security) (stored 0%)
adding: Meta/nsInfo.rds (188 bytes security) (stored 0%)
adding: Meta/package.rds (188 bytes security) (stored 0%)
adding: Meta/Rd.rds (188 bytes security) (stored 0%)
adding: NAMESPACE (188 bytes security) (stored 0%)