##############################################################################
##############################################################################
###
### Running command:
###
### cd GSE62944.buildbin-libdir/GSE62944 && zip -r ../../GSE62944_1.0.0.zip . & cd ../..
###
##############################################################################
##############################################################################
Scanning files
adding: DESCRIPTION (188 bytes security) (deflated 40%)
adding: doc/ (256 bytes security) (stored 0%)
adding: doc/GSE62944.html (188 bytes security) (deflated 62%)
adding: doc/GSE62944.R (188 bytes security) (deflated 62%)
adding: doc/GSE62944.Rmd (188 bytes security) (deflated 54%)
adding: doc/index.html (188 bytes security) (deflated 57%)
adding: extdata/ (256 bytes security) (stored 0%)
adding: extdata/metadata.csv (188 bytes security) (deflated 41%)
adding: help/ (256 bytes security) (stored 0%)
adding: help/aliases.rds (188 bytes security) (stored 0%)
adding: help/AnIndex (188 bytes security) (deflated 55%)
adding: help/GSE62944.rdb (188 bytes security) (stored 0%)
adding: help/GSE62944.rdx (188 bytes security) (stored 0%)
adding: help/paths.rds (188 bytes security) (stored 0%)
adding: html/ (256 bytes security) (stored 0%)
adding: html/00Index.html (188 bytes security) (deflated 56%)
adding: html/R.css (188 bytes security) (deflated 75%)
adding: INDEX (188 bytes security) (deflated 30%)
adding: MD5 (188 bytes security) (deflated 41%)
adding: Meta/ (256 bytes security) (stored 0%)
adding: Meta/hsearch.rds (188 bytes security) (stored 0%)
adding: Meta/links.rds (188 bytes security) (stored 0%)
adding: Meta/nsInfo.rds (188 bytes security) (stored 0%)
adding: Meta/package.rds (188 bytes security) (stored 0%)
adding: Meta/Rd.rds (188 bytes security) (stored 0%)
adding: Meta/vignette.rds (188 bytes security) (stored 0%)
adding: NAMESPACE (188 bytes security) (deflated 9%)
adding: scripts/ (256 bytes security) (stored 0%)
adding: scripts/make-data.R (188 bytes security) (deflated 60%)
adding: scripts/make-metadata.R (188 bytes security) (deflated 54%)