##############################################################################
##############################################################################
###
### Running command:
###
### rm -rf CRCL18.buildbin-libdir && mkdir CRCL18.buildbin-libdir && /Users/biocbuild/BBS/utils/build-universal.sh CRCL18_0.105.0.tar.gz /Library/Frameworks/R.framework/Versions/Current/Resources/bin/R CRCL18.buildbin-libdir
###
##############################################################################
##############################################################################
>>>>>>>
>>>>>>> INSTALLATION WITH 'R CMD INSTALL --preclean --no-multiarch --library=CRCL18.buildbin-libdir CRCL18_0.105.0.tar.gz'
>>>>>>>
* installing *source* package ‘CRCL18’ ...
** R
** data
** inst
** preparing package for lazy loading
** help
*** installing help indices
** building package indices
** installing vignettes
** testing if installed package can be loaded
* DONE (CRCL18)