##############################################################################
##############################################################################
###
### Running command:
###
### cd CRCL18.buildbin-libdir/CRCL18 && zip -r ../../CRCL18_0.106.0.zip . & cd ../..
###
##############################################################################
##############################################################################
adding: data/ (256 bytes security) (stored 0%)
adding: data/CRCLmirna.rda (188 bytes security) (deflated 0%)
adding: data/CRCLmrna.rda (188 bytes security) (deflated 0%)
adding: data/datalist (188 bytes security) (deflated 16%)
adding: DESCRIPTION (188 bytes security) (deflated 33%)
adding: doc/ (256 bytes security) (stored 0%)
adding: doc/CRCL18Vignette.pdf (188 bytes security) (deflated 5%)
adding: doc/CRCL18Vignette.R (188 bytes security) (deflated 70%)
adding: doc/CRCL18Vignette.Rnw (188 bytes security) (deflated 46%)
adding: doc/index.html (188 bytes security) (deflated 59%)
adding: help/ (256 bytes security) (stored 0%)
adding: help/aliases.rds (188 bytes security) (stored 0%)
adding: help/AnIndex (188 bytes security) (deflated 45%)
adding: help/CRCL18.rdb (188 bytes security) (deflated 6%)
adding: help/CRCL18.rdx (188 bytes security) (stored 0%)
adding: help/paths.rds (188 bytes security) (stored 0%)
adding: html/ (256 bytes security) (stored 0%)
adding: html/00Index.html (188 bytes security) (deflated 53%)
adding: html/R.css (188 bytes security) (deflated 75%)
adding: INDEX (188 bytes security) (deflated 50%)
adding: MD5 (188 bytes security) (deflated 43%)
adding: Meta/ (256 bytes security) (stored 0%)
adding: Meta/data.rds (188 bytes security) (stored 0%)
adding: Meta/hsearch.rds (188 bytes security) (stored 0%)
adding: Meta/links.rds (188 bytes security) (stored 0%)
adding: Meta/nsInfo.rds (188 bytes security) (stored 0%)
adding: Meta/package.rds (188 bytes security) (stored 0%)
adding: Meta/Rd.rds (188 bytes security) (stored 0%)
adding: Meta/vignette.rds (188 bytes security) (stored 0%)
adding: NAMESPACE (188 bytes security) (deflated 3%)
adding: R/ (256 bytes security) (stored 0%)
adding: R/CRCL18 (188 bytes security) (deflated 41%)
adding: R/CRCL18.rdb (188 bytes security) (deflated 5%)
adding: R/CRCL18.rdx (188 bytes security) (stored 0%)