fabia 2.16.0 Sepp Hochreiter
Snapshot Date: 2016-04-22 16:20:12 -0700 (Fri, 22 Apr 2016) | URL: https://hedgehog.fhcrc.org/bioconductor/branches/RELEASE_3_2/madman/Rpacks/fabia | Last Changed Rev: 109589 / Revision: 116712 | Last Changed Date: 2015-10-13 12:36:05 -0700 (Tue, 13 Oct 2015) |
| zin1 | Linux (Ubuntu 14.04.2 LTS) / x86_64 | OK | OK | OK | | ![UNNEEDED, same version exists in internal repository UNNEEDED, same version exists in internal repository](../120px-Blue_Light_Icon.svg.png) |
moscato1 | Windows Server 2008 R2 Standard (64-bit) / x64 | OK | OK | OK | [ OK ] | ![UNNEEDED, same version exists in internal repository UNNEEDED, same version exists in internal repository](../120px-Blue_Light_Icon.svg.png) |
oaxaca | Mac OS X Mavericks (10.9.5) / x86_64 | OK | OK | OK | OK | ![UNNEEDED, same version exists in internal repository UNNEEDED, same version exists in internal repository](../120px-Blue_Light_Icon.svg.png) |
##############################################################################
##############################################################################
###
### Running command:
###
### cd fabia.buildbin-libdir/fabia && zip -r ../../fabia_2.16.0.zip . & cd ../..
###
##############################################################################
##############################################################################
Scanning files
adding: CITATION (188 bytes security) (deflated 61%)
adding: demo/ (208 bytes security) (stored 0%)
adding: demo/demo01FabiaToydata.R (188 bytes security) (deflated 61%)
adding: demo/demo02FabiaBreastcancer.R (188 bytes security) (deflated 57%)
adding: demo/demo03FabiaMultipleTissues.R (188 bytes security) (deflated 57%)
adding: demo/demo04FabiaLymphoma.R (188 bytes security) (deflated 57%)
adding: demo/demo05FabiasToydata.R (188 bytes security) (deflated 61%)
adding: demo/demo06FabiasBreastcancer.R (188 bytes security) (deflated 57%)
adding: demo/demo07FabiasMultipleTissues.R (188 bytes security) (deflated 58%)
adding: demo/demo08FabiasLymphoma.R (188 bytes security) (deflated 57%)
adding: DESCRIPTION (188 bytes security) (deflated 46%)
adding: doc/ (208 bytes security) (stored 0%)
adding: doc/fabia.pdf (188 bytes security) (deflated 25%)
adding: doc/fabia.R (188 bytes security) (deflated 46%)
adding: doc/fabia.Rnw (188 bytes security) (deflated 83%)
adding: doc/index.html (188 bytes security) (deflated 57%)
adding: help/ (208 bytes security) (stored 0%)
adding: help/aliases.rds (188 bytes security) (stored 0%)
adding: help/AnIndex (188 bytes security) (deflated 85%)
adding: help/fabia.rdb (188 bytes security) (deflated 1%)
adding: help/fabia.rdx (188 bytes security) (stored 0%)
adding: help/paths.rds (188 bytes security) (stored 0%)
adding: html/ (208 bytes security) (stored 0%)
adding: html/00Index.html (188 bytes security) (deflated 89%)
adding: html/R.css (188 bytes security) (deflated 75%)
adding: INDEX (188 bytes security) (deflated 76%)
adding: libs/ (208 bytes security) (stored 0%)
adding: libs/i386/ (208 bytes security) (stored 0%)
adding: libs/i386/fabia.dll (188 bytes security) (deflated 55%)
adding: libs/x64/ (208 bytes security) (stored 0%)
adding: libs/x64/fabia.dll (188 bytes security) (deflated 54%)
adding: MD5 (188 bytes security) (deflated 45%)
adding: Meta/ (208 bytes security) (stored 0%)
adding: Meta/demo.rds (188 bytes security) (stored 0%)
adding: Meta/hsearch.rds (188 bytes security) (stored 0%)
adding: Meta/links.rds (188 bytes security) (stored 0%)
adding: Meta/nsInfo.rds (188 bytes security) (stored 0%)
adding: Meta/package.rds (188 bytes security) (stored 0%)
adding: Meta/Rd.rds (188 bytes security) (stored 0%)
adding: Meta/vignette.rds (188 bytes security) (stored 0%)
adding: NAMESPACE (188 bytes security) (deflated 67%)
adding: NEWS (188 bytes security) (deflated 59%)
adding: R/ (208 bytes security) (stored 0%)
adding: R/fabia (188 bytes security) (deflated 41%)
adding: R/fabia.rdb (188 bytes security) (deflated 30%)
adding: R/fabia.rdx (188 bytes security) (deflated 1%)