##############################################################################
##############################################################################
###
### Running command:
###
### /Library/Frameworks/R.framework/Versions/Current/Resources/bin/R CMD INSTALL zlibbioc
###
##############################################################################
##############################################################################
* installing to library ‘/Library/Frameworks/R.framework/Versions/3.2/Resources/library’
* installing *source* package ‘zlibbioc’ ...
configure: creating ./config.status
config.status: creating src/Makevars
** libs
mkdir -p "/Library/Frameworks/R.framework/Versions/3.2/Resources/library/zlibbioc/include"
llvm-gcc-4.2 -arch x86_64 -std=gnu99 -I/Library/Frameworks/R.framework/Resources/include -DNDEBUG -I/usr/local/include -fPIC -mtune=core2 -g -O2 -Wall -c R_init_zlibbioc.c -o R_init_zlibbioc.o
llvm-gcc-4.2 -arch x86_64 -std=gnu99 -dynamiclib -Wl,-headerpad_max_install_names -undefined dynamic_lookup -single_module -multiply_defined suppress -L/Library/Frameworks/R.framework/Resources/lib -L/usr/local/lib -L/usr/local/lib -o zlibbioc.so R_init_zlibbioc.o -F/Library/Frameworks/R.framework/.. -framework R -Wl,-framework -Wl,CoreFoundation
installing to /Library/Frameworks/R.framework/Versions/3.2/Resources/library/zlibbioc/libs
** R
** preparing package for lazy loading
** help
*** installing help indices
** building package indices
** installing vignettes
** testing if installed package can be loaded
* DONE (zlibbioc)