##############################################################################
##############################################################################
###
### Running command:
###
### chmod a+r zlibbioc -R && E:\biocbld\bbs-3.1-bioc\R\bin\R.exe CMD build --keep-empty-dirs --no-resave-data zlibbioc
###
##############################################################################
##############################################################################
* checking for file 'zlibbioc/DESCRIPTION' ... OK
* preparing 'zlibbioc':
* checking DESCRIPTION meta-information ... OK
* cleaning src
Warning: running command '"make" -f "E:/biocbld/bbs-3.1-bioc/R/share/make/clean.mk" -f Makevars.win clean' had status 2
* installing the package to build vignettes
* creating vignettes ... OK
* cleaning src
* checking for LF line-endings in source and make files
* checking for empty or unneeded directories
* building 'zlibbioc_1.14.0.tar.gz'
Warning: file 'zlibbioc/configure' did not have execute permissions: corrected
Warning: file 'zlibbioc/src/zlib-1.2.5/configure' did not have execute permissions: corrected