##############################################################################
##############################################################################
###
### Running command:
###
### /home/biocbuild/bbs-3.1-bioc/R/bin/R CMD INSTALL rols
###
##############################################################################
##############################################################################
* installing to library ‘/home/biocbuild/bbs-3.1-bioc/R/library’
* installing *source* package ‘rols’ ...
** R
** inst
** preparing package for lazy loading
Note: the specification for S3 class “connection” in package ‘BiocGenerics’ seems equivalent to one from package ‘SSOAP’: not turning on duplicate class definitions for this class.
** help
*** installing help indices
** building package indices
** installing vignettes
‘rols.Rnw’
** testing if installed package can be loaded
Note: the specification for S3 class “connection” in package ‘BiocGenerics’ seems equivalent to one from package ‘SSOAP’: not turning on duplicate class definitions for this class.
* DONE (rols)