##############################################################################
##############################################################################
###
### Running command:
###
### rm -rf rols.buildbin-libdir && mkdir rols.buildbin-libdir && /Users/biocbuild/BBS/utils/build-universal.sh rols_1.10.0.tar.gz /Library/Frameworks/R.framework/Versions/Current/Resources/bin/R rols.buildbin-libdir
###
##############################################################################
##############################################################################
>>>>>>>
>>>>>>> INSTALLATION WITH 'R CMD INSTALL --preclean --no-multiarch --library=rols.buildbin-libdir rols_1.10.0.tar.gz'
>>>>>>>
* installing *source* package ‘rols’ ...
** R
** inst
** preparing package for lazy loading
Note: the specification for S3 class “connection” in package ‘BiocGenerics’ seems equivalent to one from package ‘SSOAP’: not turning on duplicate class definitions for this class.
** help
*** installing help indices
** building package indices
** installing vignettes
** testing if installed package can be loaded
Note: the specification for S3 class “connection” in package ‘BiocGenerics’ seems equivalent to one from package ‘SSOAP’: not turning on duplicate class definitions for this class.
* DONE (rols)