##############################################################################
##############################################################################
###
### Running command:
###
### /home/biocbuild/bbs-3.1-bioc/R/bin/R CMD INSTALL prada
###
##############################################################################
##############################################################################
* installing to library ‘/home/biocbuild/bbs-3.1-bioc/R/library’
* installing *source* package ‘prada’ ...
** libs
gcc -std=gnu99 -I/home/biocbuild/bbs-3.1-bioc/R/include -DNDEBUG -I/usr/local/include -fpic -g -O2 -Wall -c inPolygon.c -o inPolygon.o
gcc -std=gnu99 -shared -L/home/biocbuild/bbs-3.1-bioc/R/lib -L/usr/local/lib -o prada.so inPolygon.o -L/home/biocbuild/bbs-3.1-bioc/R/lib -lR
installing to /home/biocbuild/bbs-3.1-bioc/R/library/prada/libs
** R
** data
** inst
** preparing package for lazy loading
Creating a generic function for ‘split’ from package ‘base’ in package ‘prada’
** help
*** installing help indices
** building package indices
** installing vignettes
‘norm2.Rnw’
‘prada2cellHTS.Rnw’
** testing if installed package can be loaded
* DONE (prada)