##############################################################################
##############################################################################
###
### Running command:
###
### C:\cygwin\bin\curl.exe -O http://zin2/BBS/3.1/bioc/src/contrib/prada_1.44.0.tar.gz && E:\biocbld\bbs-3.1-bioc\R\bin\R.exe CMD INSTALL --merge-multiarch prada_1.44.0.tar.gz && rm prada_1.44.0.tar.gz
###
##############################################################################
##############################################################################
install for i386
* installing to library 'E:/biocbld/bbs-3.1-bioc/R/library'
* installing *source* package 'prada' ...
** libs
gcc -m32 -I"E:/biocbld/BBS-3˜1.1-B/R/include" -DNDEBUG -I"d:/RCompile/r-compiling/local/local320/include" -O3 -Wall -std=gnu99 -mtune=core2 -c inPolygon.c -o inPolygon.o
gcc -m32 -shared -s -static-libgcc -o prada.dll tmp.def inPolygon.o -Ld:/RCompile/r-compiling/local/local320/lib/i386 -Ld:/RCompile/r-compiling/local/local320/lib -LE:/biocbld/BBS-3˜1.1-B/R/bin/i386 -lR
installing to E:/biocbld/bbs-3.1-bioc/R/library/prada/libs/i386
** R
** data
** inst
** preparing package for lazy loading
Creating a generic function for 'split' from package 'base' in package 'prada'
** help
*** installing help indices
** building package indices
** installing vignettes
'norm2.Rnw'
'prada2cellHTS.Rnw'
** testing if installed package can be loaded
install for x64
* installing to library 'E:/biocbld/bbs-3.1-bioc/R/library'
* installing *source* package 'prada' ...
** libs
gcc -m64 -I"E:/biocbld/BBS-3˜1.1-B/R/include" -DNDEBUG -I"d:/RCompile/r-compiling/local/local320/include" -O2 -Wall -std=gnu99 -mtune=core2 -c inPolygon.c -o inPolygon.o
gcc -m64 -shared -s -static-libgcc -o prada.dll tmp.def inPolygon.o -Ld:/RCompile/r-compiling/local/local320/lib/x64 -Ld:/RCompile/r-compiling/local/local320/lib -LE:/biocbld/BBS-3˜1.1-B/R/bin/x64 -lR
installing to E:/biocbld/bbs-3.1-bioc/R/library/prada/libs/x64
** testing if installed package can be loaded
* DONE (prada)