##############################################################################
##############################################################################
###
### Running command:
###
### cd maSigPro.buildbin-libdir/maSigPro && zip -r ../../maSigPro_1.40.0.zip . & cd ../..
###
##############################################################################
##############################################################################
adding: data/ (256 bytes security) (stored 0%)
adding: data/data.abiotic.rda (188 bytes security) (deflated 0%)
adding: data/edesign.abiotic.rda (188 bytes security) (stored 0%)
adding: data/edesign.OD.rda (188 bytes security) (stored 0%)
adding: data/edesignCT.rda (188 bytes security) (stored 0%)
adding: data/edesignDR.rda (188 bytes security) (deflated 11%)
adding: data/NBdata.rda (188 bytes security) (deflated 2%)
adding: data/NBdesign.rda (188 bytes security) (deflated 9%)
adding: DESCRIPTION (188 bytes security) (deflated 41%)
adding: doc/ (256 bytes security) (stored 0%)
adding: doc/index.html (188 bytes security) (deflated 61%)
adding: doc/maSigPro.pdf (188 bytes security) (deflated 6%)
adding: doc/maSigPro.Rnw (188 bytes security) (deflated 52%)
adding: doc/maSigProUsersGuide.pdf (188 bytes security) (deflated 14%)
adding: help/ (256 bytes security) (stored 0%)
adding: help/aliases.rds (188 bytes security) (stored 0%)
adding: help/AnIndex (188 bytes security) (deflated 59%)
adding: help/maSigPro.rdb (188 bytes security) (deflated 1%)
adding: help/maSigPro.rdx (188 bytes security) (stored 0%)
adding: help/paths.rds (188 bytes security) (stored 0%)
adding: html/ (256 bytes security) (stored 0%)
adding: html/00Index.html (188 bytes security) (deflated 73%)
adding: html/R.css (188 bytes security) (deflated 75%)
adding: INDEX (188 bytes security) (deflated 71%)
adding: MD5 (188 bytes security) (deflated 45%)
adding: Meta/ (256 bytes security) (stored 0%)
adding: Meta/data.rds (188 bytes security) (stored 0%)
adding: Meta/hsearch.rds (188 bytes security) (stored 0%)
adding: Meta/links.rds (188 bytes security) (stored 0%)
adding: Meta/nsInfo.rds (188 bytes security) (stored 0%)
adding: Meta/package.rds (188 bytes security) (stored 0%)
adding: Meta/Rd.rds (188 bytes security) (stored 0%)
adding: Meta/vignette.rds (188 bytes security) (stored 0%)
adding: NAMESPACE (188 bytes security) (deflated 45%)
adding: R/ (256 bytes security) (stored 0%)
adding: R/maSigPro (188 bytes security) (deflated 41%)
adding: R/maSigPro.rdb (188 bytes security) (deflated 1%)
adding: R/maSigPro.rdx (188 bytes security) (stored 0%)