Back to the "Multiple platform build/check report" | A B C D E F G H I J K L [M] N O P Q R S T U V W X Y Z |
This page was generated on 2015-10-09 09:38:11 -0700 (Fri, 09 Oct 2015).
Package 553/1024 | Hostname | OS / Arch | INSTALL | BUILD | CHECK | BUILD BIN | |||||
maSigPro 1.40.0 Maria Jose Nueda
| zin2 | Linux (Ubuntu 14.04.2 LTS) / x86_64 | OK | OK | OK | ![]() | |||||
moscato2 | Windows Server 2008 R2 Enterprise SP1 (64-bit) / x64 | OK | OK | OK | OK | ![]() | |||||
petty | Mac OS X Snow Leopard (10.6.8) / x86_64 | OK | OK | OK | OK | ![]() | |||||
morelia | Mac OS X Mavericks (10.9.5) / x86_64 | [ OK ] | OK | OK | OK | ![]() |
Package: maSigPro |
Version: 1.40.0 |
Command: /Library/Frameworks/R.framework/Versions/Current/Resources/bin/R CMD INSTALL maSigPro |
StartedAt: 2015-10-08 18:18:05 -0700 (Thu, 08 Oct 2015) |
EndedAt: 2015-10-08 18:18:10 -0700 (Thu, 08 Oct 2015) |
EllapsedTime: 4.6 seconds |
RetCode: 0 |
Status: OK |
############################################################################## ############################################################################## ### ### Running command: ### ### /Library/Frameworks/R.framework/Versions/Current/Resources/bin/R CMD INSTALL maSigPro ### ############################################################################## ############################################################################## * installing to library ‘/Library/Frameworks/R.framework/Versions/3.2/Resources/library’ * installing *source* package ‘maSigPro’ ... ** R ** data ** inst ** preparing package for lazy loading ** help *** installing help indices ** building package indices ** installing vignettes ‘maSigPro.Rnw’ ** testing if installed package can be loaded * DONE (maSigPro)