##############################################################################
##############################################################################
###
### Running command:
###
### cd mAPKL.buildbin-libdir/mAPKL && zip -r ../../mAPKL_1.0.0.zip . & cd ../..
###
##############################################################################
##############################################################################
adding: DESCRIPTION (188 bytes security) (deflated 39%)
adding: doc/ (256 bytes security) (stored 0%)
adding: doc/index.html (188 bytes security) (deflated 56%)
adding: doc/mAPKL.pdf (188 bytes security) (deflated 14%)
adding: doc/mAPKL.Rnw (188 bytes security) (deflated 62%)
adding: help/ (256 bytes security) (stored 0%)
adding: help/aliases.rds (188 bytes security) (stored 0%)
adding: help/AnIndex (188 bytes security) (deflated 63%)
adding: help/figures/ (256 bytes security) (stored 0%)
adding: help/figures/density_train.jpeg (188 bytes security) (deflated 30%)
adding: help/figures/network.jpg (188 bytes security) (deflated 5%)
adding: help/figures/report.jpg (188 bytes security) (deflated 23%)
adding: help/mAPKL.rdb (188 bytes security) (deflated 1%)
adding: help/mAPKL.rdx (188 bytes security) (stored 0%)
adding: help/paths.rds (188 bytes security) (stored 0%)
adding: html/ (256 bytes security) (stored 0%)
adding: html/00Index.html (188 bytes security) (deflated 71%)
adding: html/R.css (188 bytes security) (deflated 75%)
adding: INDEX (188 bytes security) (deflated 57%)
adding: MD5 (188 bytes security) (deflated 42%)
adding: Meta/ (256 bytes security) (stored 0%)
adding: Meta/hsearch.rds (188 bytes security) (stored 0%)
adding: Meta/links.rds (188 bytes security) (stored 0%)
adding: Meta/nsInfo.rds (188 bytes security) (stored 0%)
adding: Meta/package.rds (188 bytes security) (stored 0%)
adding: Meta/Rd.rds (188 bytes security) (stored 0%)
adding: Meta/vignette.rds (188 bytes security) (stored 0%)
adding: NAMESPACE (188 bytes security) (deflated 45%)
adding: NEWS (188 bytes security) (deflated 29%)
adding: R/ (256 bytes security) (stored 0%)
adding: R/mAPKL (188 bytes security) (deflated 41%)
adding: R/mAPKL.rdb (188 bytes security) (deflated 1%)
adding: R/mAPKL.rdx (188 bytes security) (stored 0%)
adding: unitTests/ (256 bytes security) (stored 0%)
adding: unitTests/test_annotate.R (188 bytes security) (deflated 57%)
adding: unitTests/test_metrics.R (188 bytes security) (deflated 54%)
adding: unitTests/test_sampling.R (188 bytes security) (deflated 52%)