##############################################################################
##############################################################################
###
### Running command:
###
### rm -rf mAPKL.buildbin-libdir && mkdir mAPKL.buildbin-libdir && /Users/biocbuild/BBS/utils/build-universal.sh mAPKL_1.0.0.tar.gz /Library/Frameworks/R.framework/Versions/Current/Resources/bin/R mAPKL.buildbin-libdir
###
##############################################################################
##############################################################################
>>>>>>>
>>>>>>> INSTALLATION WITH 'R CMD INSTALL --preclean --no-multiarch --library=mAPKL.buildbin-libdir mAPKL_1.0.0.tar.gz'
>>>>>>>
* installing *source* package ‘mAPKL’ ...
** R
** inst
** preparing package for lazy loading
Warning in rgl.init(initValue, onlyNULL) :
RGL: GLX extension missing on server
Warning in fun(libname, pkgname) : Error in 'rgl_init'
Creating a generic function for ‘nchar’ from package ‘base’ in package ‘S4Vectors’
** help
*** installing help indices
*** copying figures
** building package indices
** installing vignettes
** testing if installed package can be loaded
Warning in rgl.init(initValue, onlyNULL) :
RGL: GLX extension missing on server
Warning in fun(libname, pkgname) : Error in 'rgl_init'
Creating a generic function for ‘nchar’ from package ‘base’ in package ‘S4Vectors’
* DONE (mAPKL)