Back to the "Multiple platform build/check report" | A B C D E F G H [I] J K L M N O P Q R S T U V W X Y Z |
This page was generated on 2015-10-09 09:24:04 -0700 (Fri, 09 Oct 2015).
Package 490/1024 | Hostname | OS / Arch | INSTALL | BUILD | CHECK | BUILD BIN | |||||
imageHTS 1.18.2 Joseph Barry
| zin2 | Linux (Ubuntu 14.04.2 LTS) / x86_64 | OK | [ OK ] | OK | ![]() | |||||
moscato2 | Windows Server 2008 R2 Enterprise SP1 (64-bit) / x64 | OK | OK | OK | OK | ![]() | |||||
petty | Mac OS X Snow Leopard (10.6.8) / x86_64 | OK | OK | OK | OK | ![]() | |||||
morelia | Mac OS X Mavericks (10.9.5) / x86_64 | OK | OK | OK | OK | ![]() |
Package: imageHTS |
Version: 1.18.2 |
Command: /home/biocbuild/bbs-3.1-bioc/R/bin/R CMD build --keep-empty-dirs --no-resave-data imageHTS |
StartedAt: 2015-10-08 19:29:31 -0700 (Thu, 08 Oct 2015) |
EndedAt: 2015-10-08 19:30:39 -0700 (Thu, 08 Oct 2015) |
EllapsedTime: 67.8 seconds |
RetCode: 0 |
Status: OK |
PackageFile: imageHTS_1.18.2.tar.gz |
PackageFileSize: 2.476 MiB |
############################################################################## ############################################################################## ### ### Running command: ### ### /home/biocbuild/bbs-3.1-bioc/R/bin/R CMD build --keep-empty-dirs --no-resave-data imageHTS ### ############################################################################## ############################################################################## * checking for file ‘imageHTS/DESCRIPTION’ ... OK * preparing ‘imageHTS’: * checking DESCRIPTION meta-information ... OK * installing the package to build vignettes * creating vignettes ... OK * checking for LF line-endings in source and make files * checking for empty or unneeded directories * building ‘imageHTS_1.18.2.tar.gz’