##############################################################################
##############################################################################
###
### Running command:
###
### cd gaggle.buildbin-libdir/gaggle && zip -r ../../gaggle_1.36.0.zip . & cd ../..
###
##############################################################################
##############################################################################
adding: DESCRIPTION (188 bytes security) (deflated 38%)
adding: doc/ (256 bytes security) (stored 0%)
adding: doc/gaggle.pdf (188 bytes security) (deflated 8%)
adding: doc/gaggle.R (188 bytes security) (deflated 67%)
adding: doc/gaggle.Rnw (188 bytes security) (deflated 59%)
adding: doc/index.html (188 bytes security) (deflated 58%)
adding: help/ (256 bytes security) (stored 0%)
adding: help/aliases.rds (188 bytes security) (stored 0%)
adding: help/AnIndex (188 bytes security) (deflated 61%)
adding: help/gaggle.rdb (188 bytes security) (deflated 2%)
adding: help/gaggle.rdx (188 bytes security) (stored 0%)
adding: help/paths.rds (188 bytes security) (stored 0%)
adding: html/ (256 bytes security) (stored 0%)
adding: html/00Index.html (188 bytes security) (deflated 73%)
adding: html/R.css (188 bytes security) (deflated 75%)
adding: INDEX (188 bytes security) (deflated 70%)
adding: jars/ (256 bytes security) (stored 0%)
adding: jars/gaggleRShell.jar (188 bytes security) (deflated 9%)
adding: MD5 (188 bytes security) (deflated 41%)
adding: Meta/ (256 bytes security) (stored 0%)
adding: Meta/hsearch.rds (188 bytes security) (stored 0%)
adding: Meta/links.rds (188 bytes security) (stored 0%)
adding: Meta/nsInfo.rds (188 bytes security) (stored 0%)
adding: Meta/package.rds (188 bytes security) (stored 0%)
adding: Meta/Rd.rds (188 bytes security) (stored 0%)
adding: Meta/vignette.rds (188 bytes security) (stored 0%)
adding: NAMESPACE (188 bytes security) (deflated 50%)
adding: R/ (256 bytes security) (stored 0%)
adding: R/gaggle (188 bytes security) (deflated 41%)
adding: R/gaggle.rdb (188 bytes security) (deflated 9%)
adding: R/gaggle.rdx (188 bytes security) (stored 0%)
adding: unitTests/ (256 bytes security) (stored 0%)
adding: unitTests/gaggleTest.R (188 bytes security) (deflated 81%)