##############################################################################
##############################################################################
###
### Running command:
###
### rm -rf gaggle.buildbin-libdir && mkdir gaggle.buildbin-libdir && /Users/biocbuild/BBS/utils/build-universal.sh gaggle_1.36.0.tar.gz /Library/Frameworks/R.framework/Versions/Current/Resources/bin/R gaggle.buildbin-libdir
###
##############################################################################
##############################################################################
>>>>>>>
>>>>>>> INSTALLATION WITH 'R CMD INSTALL --preclean --no-multiarch --library=gaggle.buildbin-libdir gaggle_1.36.0.tar.gz'
>>>>>>>
* installing *source* package ‘gaggle’ ...
** R
** inst
** preparing package for lazy loading
** help
*** installing help indices
** building package indices
** installing vignettes
** testing if installed package can be loaded
onLoad -- libname: /Users/biocbuild/bbs-3.1-bioc/meat/gaggle.buildbin-libdir pkgname: gaggle
path to jar: /Users/biocbuild/bbs-3.1-bioc/meat/gaggle.buildbin-libdir/gaggle/jars/gaggleRShell.jar
script: gaggle.R $Revision: 4499 $ $Date: 2010-08-10 17:15:03 -0700 (Tue, 10 Aug 2010) $
os version: Mac OS X
jvm version: 1.6.0_65
* DONE (gaggle)