##############################################################################
##############################################################################
###
### Running command:
###
### rm -rf arrayMvout.buildbin-libdir && mkdir arrayMvout.buildbin-libdir && /Users/biocbuild/BBS/utils/build-universal.sh arrayMvout_1.26.0.tar.gz /Library/Frameworks/R.framework/Versions/Current/Resources/bin/R arrayMvout.buildbin-libdir
###
##############################################################################
##############################################################################
>>>>>>>
>>>>>>> INSTALLATION WITH 'R CMD INSTALL --preclean --no-multiarch --library=arrayMvout.buildbin-libdir arrayMvout_1.26.0.tar.gz'
>>>>>>>
* installing *source* package ‘arrayMvout’ ...
** R
** data
** inst
** preparing package for lazy loading
Creating a generic function for ‘nchar’ from package ‘base’ in package ‘S4Vectors’
** help
*** installing help indices
** building package indices
** installing vignettes
** testing if installed package can be loaded
Creating a generic function for ‘nchar’ from package ‘base’ in package ‘S4Vectors’
* DONE (arrayMvout)