##############################################################################
##############################################################################
###
### Running command:
###
### cd arrayMvout.buildbin-libdir/arrayMvout && zip -r ../../arrayMvout_1.26.0.zip . & cd ../..
###
##############################################################################
##############################################################################
adding: data/ (256 bytes security) (stored 0%)
adding: data/afxsubDEG.rda (188 bytes security) (stored 0%)
adding: data/afxsubQC.rda (188 bytes security) (stored 0%)
adding: data/fig3map.rda (188 bytes security) (stored 0%)
adding: data/ilmQA.rda (188 bytes security) (stored 0%)
adding: data/itnQA.rda (188 bytes security) (deflated 0%)
adding: data/maqcQA.rda (188 bytes security) (deflated 2%)
adding: data/s12cDEG.rda (188 bytes security) (stored 0%)
adding: data/s12cQC.rda (188 bytes security) (stored 0%)
adding: data/spikQA.rda (188 bytes security) (stored 0%)
adding: DESCRIPTION (188 bytes security) (deflated 37%)
adding: doc/ (256 bytes security) (stored 0%)
adding: doc/arrayMvout.pdf (188 bytes security) (deflated 15%)
adding: doc/arrayMvout.R (188 bytes security) (deflated 80%)
adding: doc/arrayMvout.Rnw (188 bytes security) (deflated 68%)
adding: doc/index.html (188 bytes security) (deflated 58%)
adding: help/ (256 bytes security) (stored 0%)
adding: help/aliases.rds (188 bytes security) (stored 0%)
adding: help/AnIndex (188 bytes security) (deflated 72%)
adding: help/arrayMvout.rdb (188 bytes security) (stored 0%)
adding: help/arrayMvout.rdx (188 bytes security) (stored 0%)
adding: help/paths.rds (188 bytes security) (stored 0%)
adding: html/ (256 bytes security) (stored 0%)
adding: html/00Index.html (188 bytes security) (deflated 79%)
adding: html/R.css (188 bytes security) (deflated 75%)
adding: INDEX (188 bytes security) (deflated 57%)
adding: MD5 (188 bytes security) (deflated 44%)
adding: Meta/ (256 bytes security) (stored 0%)
adding: Meta/data.rds (188 bytes security) (stored 0%)
adding: Meta/hsearch.rds (188 bytes security) (stored 0%)
adding: Meta/links.rds (188 bytes security) (stored 0%)
adding: Meta/nsInfo.rds (188 bytes security) (stored 0%)
adding: Meta/package.rds (188 bytes security) (stored 0%)
adding: Meta/Rd.rds (188 bytes security) (stored 0%)
adding: Meta/vignette.rds (188 bytes security) (stored 0%)
adding: NAMESPACE (188 bytes security) (deflated 19%)
adding: R/ (256 bytes security) (stored 0%)
adding: R/arrayMvout (188 bytes security) (deflated 41%)
adding: R/arrayMvout.rdb (188 bytes security) (deflated 37%)
adding: R/arrayMvout.rdx (188 bytes security) (stored 0%)