Back to the "Multiple platform build/check report" | A B C D E F G H I J K L M N O P Q [R] S T U V W X Y Z |
This page was generated on 2015-10-09 09:33:15 -0700 (Fri, 09 Oct 2015).
Package 823/1024 | Hostname | OS / Arch | INSTALL | BUILD | CHECK | BUILD BIN | |||||
Ringo 1.32.0 J. Toedling
| zin2 | Linux (Ubuntu 14.04.2 LTS) / x86_64 | OK | OK | OK | ![]() | |||||
moscato2 | Windows Server 2008 R2 Enterprise SP1 (64-bit) / x64 | OK | OK | OK | OK | ![]() | |||||
petty | Mac OS X Snow Leopard (10.6.8) / x86_64 | OK | [ OK ] | OK | OK | ![]() | |||||
morelia | Mac OS X Mavericks (10.9.5) / x86_64 | OK | OK | OK | OK | ![]() |
Package: Ringo |
Version: 1.32.0 |
Command: /Library/Frameworks/R.framework/Versions/Current/Resources/bin/R CMD build --keep-empty-dirs --no-resave-data Ringo |
StartedAt: 2015-10-08 18:34:36 -0700 (Thu, 08 Oct 2015) |
EndedAt: 2015-10-08 18:35:22 -0700 (Thu, 08 Oct 2015) |
EllapsedTime: 46.1 seconds |
RetCode: 0 |
Status: OK |
PackageFile: Ringo_1.32.0.tar.gz |
PackageFileSize: 1.04 MiB |
############################################################################## ############################################################################## ### ### Running command: ### ### /Library/Frameworks/R.framework/Versions/Current/Resources/bin/R CMD build --keep-empty-dirs --no-resave-data Ringo ### ############################################################################## ############################################################################## * checking for file ‘Ringo/DESCRIPTION’ ... OK * preparing ‘Ringo’: * checking DESCRIPTION meta-information ... OK * cleaning src * installing the package to build vignettes * creating vignettes ... OK * cleaning src * checking for LF line-endings in source and make files * checking for empty or unneeded directories * building ‘Ringo_1.32.0.tar.gz’