##############################################################################
##############################################################################
###
### Running command:
###
### /Library/Frameworks/R.framework/Versions/Current/Resources/bin/R CMD INSTALL Ringo
###
##############################################################################
##############################################################################
* installing to library ‘/Library/Frameworks/R.framework/Versions/3.2/Resources/library’
* installing *source* package ‘Ringo’ ...
** libs
clang++ -I/Library/Frameworks/R.framework/Resources/include -DNDEBUG -I/usr/local/include -I/usr/local/include/freetype2 -I/opt/X11/include -fPIC -Wall -mtune=core2 -g -O2 -c mmeansd.cpp -o mmeansd.o
clang++ -I/Library/Frameworks/R.framework/Resources/include -DNDEBUG -I/usr/local/include -I/usr/local/include/freetype2 -I/opt/X11/include -fPIC -Wall -mtune=core2 -g -O2 -c mmedian.cpp -o mmedian.o
clang -I/Library/Frameworks/R.framework/Resources/include -DNDEBUG -I/usr/local/include -I/usr/local/include/freetype2 -I/opt/X11/include -fPIC -Wall -mtune=core2 -g -O2 -c region_overlap.c -o region_overlap.o
clang -I/Library/Frameworks/R.framework/Resources/include -DNDEBUG -I/usr/local/include -I/usr/local/include/freetype2 -I/opt/X11/include -fPIC -Wall -mtune=core2 -g -O2 -c ringo_init.c -o ringo_init.o
clang++ -dynamiclib -Wl,-headerpad_max_install_names -undefined dynamic_lookup -single_module -multiply_defined suppress -L/Library/Frameworks/R.framework/Resources/lib -L/usr/local/lib -o Ringo.so mmeansd.o mmedian.o region_overlap.o ringo_init.o -F/Library/Frameworks/R.framework/.. -framework R -Wl,-framework -Wl,CoreFoundation
installing to /Library/Frameworks/R.framework/Versions/3.2/Resources/library/Ringo/libs
** R
** inst
** preparing package for lazy loading
Creating a generic function for ‘nchar’ from package ‘base’ in package ‘S4Vectors’
Creating a generic function for ‘ls’ from package ‘base’ in package ‘Ringo’
** help
*** installing help indices
** building package indices
** installing vignettes
** testing if installed package can be loaded
Creating a generic function for ‘nchar’ from package ‘base’ in package ‘S4Vectors’
* DONE (Ringo)