Back to the "Multiple platform build/check report" | A B C D E F G H I J K L M N O P Q [R] S T U V W X Y Z |
This page was generated on 2015-10-09 09:35:00 -0700 (Fri, 09 Oct 2015).
Package 800/1024 | Hostname | OS / Arch | INSTALL | BUILD | CHECK | BUILD BIN | |||||
ReactomePA 1.12.3 Guangchuang Yu
| zin2 | Linux (Ubuntu 14.04.2 LTS) / x86_64 | OK | OK | OK | ![]() | |||||
moscato2 | Windows Server 2008 R2 Enterprise SP1 (64-bit) / x64 | OK | OK | OK | OK | ![]() | |||||
petty | Mac OS X Snow Leopard (10.6.8) / x86_64 | OK | [ OK ] | OK | OK | ![]() | |||||
morelia | Mac OS X Mavericks (10.9.5) / x86_64 | OK | OK | OK | OK | ![]() |
Package: ReactomePA |
Version: 1.12.3 |
Command: /Library/Frameworks/R.framework/Versions/Current/Resources/bin/R CMD build --keep-empty-dirs --no-resave-data ReactomePA |
StartedAt: 2015-10-08 19:38:18 -0700 (Thu, 08 Oct 2015) |
EndedAt: 2015-10-08 19:41:04 -0700 (Thu, 08 Oct 2015) |
EllapsedTime: 165.6 seconds |
RetCode: 0 |
Status: OK |
PackageFile: ReactomePA_1.12.3.tar.gz |
PackageFileSize: 3.421 MiB |
############################################################################## ############################################################################## ### ### Running command: ### ### /Library/Frameworks/R.framework/Versions/Current/Resources/bin/R CMD build --keep-empty-dirs --no-resave-data ReactomePA ### ############################################################################## ############################################################################## * checking for file ‘ReactomePA/DESCRIPTION’ ... OK * preparing ‘ReactomePA’: * checking DESCRIPTION meta-information ... OK * installing the package to build vignettes * creating vignettes ... OK * checking for LF line-endings in source and make files * checking for empty or unneeded directories * building ‘ReactomePA_1.12.3.tar.gz’