##############################################################################
##############################################################################
###
### Running command:
###
### cd ReactomePA.buildbin-libdir/ReactomePA && zip -r ../../ReactomePA_1.12.3.zip . & cd ../..
###
##############################################################################
##############################################################################
adding: DESCRIPTION (188 bytes security) (deflated 42%)
adding: doc/ (256 bytes security) (stored 0%)
adding: doc/index.html (188 bytes security) (deflated 57%)
adding: doc/ReactomePA.html (188 bytes security) (deflated 32%)
adding: doc/ReactomePA.Rmd (188 bytes security) (deflated 57%)
adding: help/ (256 bytes security) (stored 0%)
adding: help/aliases.rds (188 bytes security) (stored 0%)
adding: help/AnIndex (188 bytes security) (deflated 53%)
adding: help/paths.rds (188 bytes security) (stored 0%)
adding: help/ReactomePA.rdb (188 bytes security) (deflated 1%)
adding: help/ReactomePA.rdx (188 bytes security) (stored 0%)
adding: html/ (256 bytes security) (stored 0%)
adding: html/00Index.html (188 bytes security) (deflated 64%)
adding: html/R.css (188 bytes security) (deflated 75%)
adding: INDEX (188 bytes security) (deflated 57%)
adding: MD5 (188 bytes security) (deflated 42%)
adding: Meta/ (256 bytes security) (stored 0%)
adding: Meta/hsearch.rds (188 bytes security) (stored 0%)
adding: Meta/links.rds (188 bytes security) (stored 0%)
adding: Meta/nsInfo.rds (188 bytes security) (stored 0%)
adding: Meta/package.rds (188 bytes security) (stored 0%)
adding: Meta/Rd.rds (188 bytes security) (stored 0%)
adding: Meta/vignette.rds (188 bytes security) (stored 0%)
adding: NAMESPACE (188 bytes security) (deflated 69%)
adding: NEWS (188 bytes security) (deflated 66%)
adding: R/ (256 bytes security) (stored 0%)
adding: R/ReactomePA (188 bytes security) (deflated 41%)
adding: R/ReactomePA.rdb (188 bytes security) (deflated 7%)
adding: R/ReactomePA.rdx (188 bytes security) (stored 0%)