Back to the "Multiple platform build/check report" | A B C D E F G H I J [K] L M N O P Q R S T U V W X Y Z |
This page was generated on 2015-10-09 09:23:43 -0700 (Fri, 09 Oct 2015).
Package 517/1024 | Hostname | OS / Arch | INSTALL | BUILD | CHECK | BUILD BIN | |||||
KEGGgraph 1.26.0 Jitao David Zhang
| zin2 | Linux (Ubuntu 14.04.2 LTS) / x86_64 | [ OK ] | OK | OK | ![]() | |||||
moscato2 | Windows Server 2008 R2 Enterprise SP1 (64-bit) / x64 | OK | OK | OK | OK | ![]() | |||||
petty | Mac OS X Snow Leopard (10.6.8) / x86_64 | OK | OK | OK | OK | ![]() | |||||
morelia | Mac OS X Mavericks (10.9.5) / x86_64 | OK | OK | OK | OK | ![]() |
Package: KEGGgraph |
Version: 1.26.0 |
Command: /home/biocbuild/bbs-3.1-bioc/R/bin/R CMD INSTALL KEGGgraph |
StartedAt: 2015-10-08 18:00:49 -0700 (Thu, 08 Oct 2015) |
EndedAt: 2015-10-08 18:00:51 -0700 (Thu, 08 Oct 2015) |
EllapsedTime: 2.7 seconds |
RetCode: 0 |
Status: OK |
############################################################################## ############################################################################## ### ### Running command: ### ### /home/biocbuild/bbs-3.1-bioc/R/bin/R CMD INSTALL KEGGgraph ### ############################################################################## ############################################################################## * installing to library ‘/home/biocbuild/bbs-3.1-bioc/R/library’ * installing *source* package ‘KEGGgraph’ ... ** R ** data ** inst ** preparing package for lazy loading ** help *** installing help indices ** building package indices ** installing vignettes ** testing if installed package can be loaded * DONE (KEGGgraph)