Back to the "Multiple platform build/check report" | A B C D E F G H I J [K] L M N O P Q R S T U V W X Y Z |
This page was generated on 2015-10-09 09:38:58 -0700 (Fri, 09 Oct 2015).
Package 517/1024 | Hostname | OS / Arch | INSTALL | BUILD | CHECK | BUILD BIN | |||||
KEGGgraph 1.26.0 Jitao David Zhang
| zin2 | Linux (Ubuntu 14.04.2 LTS) / x86_64 | OK | OK | OK | ![]() | |||||
moscato2 | Windows Server 2008 R2 Enterprise SP1 (64-bit) / x64 | OK | OK | OK | OK | ![]() | |||||
petty | Mac OS X Snow Leopard (10.6.8) / x86_64 | OK | OK | OK | OK | ![]() | |||||
morelia | Mac OS X Mavericks (10.9.5) / x86_64 | OK | OK | OK | [ OK ] | ![]() |
Package: KEGGgraph |
Version: 1.26.0 |
Command: rm -rf KEGGgraph.buildbin-libdir && mkdir KEGGgraph.buildbin-libdir && /Users/biocbuild/BBS/utils/build-universal.sh KEGGgraph_1.26.0.tar.gz /Library/Frameworks/R.framework/Versions/Current/Resources/bin/R KEGGgraph.buildbin-libdir |
StartedAt: 2015-10-09 07:52:09 -0700 (Fri, 09 Oct 2015) |
EndedAt: 2015-10-09 07:52:13 -0700 (Fri, 09 Oct 2015) |
EllapsedTime: 4.3 seconds |
RetCode: 0 |
Status: OK |
PackageFile: KEGGgraph_1.26.0.tgz |
PackageFileSize: 1.624 MiB |
############################################################################## ############################################################################## ### ### Running command: ### ### rm -rf KEGGgraph.buildbin-libdir && mkdir KEGGgraph.buildbin-libdir && /Users/biocbuild/BBS/utils/build-universal.sh KEGGgraph_1.26.0.tar.gz /Library/Frameworks/R.framework/Versions/Current/Resources/bin/R KEGGgraph.buildbin-libdir ### ############################################################################## ############################################################################## >>>>>>> >>>>>>> INSTALLATION WITH 'R CMD INSTALL --preclean --no-multiarch --library=KEGGgraph.buildbin-libdir KEGGgraph_1.26.0.tar.gz' >>>>>>> * installing *source* package ‘KEGGgraph’ ... ** R ** data ** inst ** preparing package for lazy loading ** help *** installing help indices ** building package indices ** installing vignettes ** testing if installed package can be loaded * DONE (KEGGgraph)