##############################################################################
##############################################################################
###
### Running command:
###
### cd ENCODExplorer.buildbin-libdir/ENCODExplorer && zip -r ../../ENCODExplorer_1.0.6.zip . & cd ../..
###
##############################################################################
##############################################################################
adding: data/ (256 bytes security) (stored 0%)
adding: data/datalist (188 bytes security) (stored 0%)
adding: data/Rdata.rdb (188 bytes security) (deflated 1%)
adding: data/Rdata.rds (188 bytes security) (stored 0%)
adding: data/Rdata.rdx (188 bytes security) (stored 0%)
adding: DESCRIPTION (188 bytes security) (deflated 52%)
adding: doc/ (256 bytes security) (stored 0%)
adding: doc/DataUpdate.html (188 bytes security) (deflated 60%)
adding: doc/DataUpdate.Rmd (188 bytes security) (deflated 51%)
adding: doc/DBmodel.html (188 bytes security) (deflated 32%)
adding: doc/DBmodel.Rmd (188 bytes security) (deflated 64%)
adding: doc/ENCODExplorer.html (188 bytes security) (deflated 29%)
adding: doc/ENCODExplorer.Rmd (188 bytes security) (deflated 62%)
adding: doc/index.html (188 bytes security) (deflated 72%)
adding: extdata/ (256 bytes security) (stored 0%)
adding: extdata/test_encode_ds.rda (188 bytes security) (stored 0%)
adding: extdata/test_encode_exp.rda (188 bytes security) (stored 0%)
adding: extdata/test_mouse_donor_df.rda (188 bytes security) (stored 0%)
adding: extdata/test_rest_query_file.rda (188 bytes security) (stored 0%)
adding: extdata/test_rest_search_dataset.rda (188 bytes security) (stored 0%)
adding: extdata/test_rest_search_experiment.rda (188 bytes security) (stored 0%)
adding: extdata/test_rest_search_file.rda (188 bytes security) (stored 0%)
adding: extdata/test_small_encode_df.rda (188 bytes security) (stored 0%)
adding: help/ (256 bytes security) (stored 0%)
adding: help/aliases.rds (188 bytes security) (stored 0%)
adding: help/AnIndex (188 bytes security) (deflated 57%)
adding: help/ENCODExplorer.rdb (188 bytes security) (deflated 1%)
adding: help/ENCODExplorer.rdx (188 bytes security) (stored 0%)
adding: help/paths.rds (188 bytes security) (stored 0%)
adding: html/ (256 bytes security) (stored 0%)
adding: html/00Index.html (188 bytes security) (deflated 65%)
adding: html/R.css (188 bytes security) (deflated 75%)
adding: INDEX (188 bytes security) (deflated 61%)
adding: MD5 (188 bytes security) (deflated 49%)
adding: Meta/ (256 bytes security) (stored 0%)
adding: Meta/data.rds (188 bytes security) (stored 0%)
adding: Meta/hsearch.rds (188 bytes security) (stored 0%)
adding: Meta/links.rds (188 bytes security) (stored 0%)
adding: Meta/nsInfo.rds (188 bytes security) (stored 0%)
adding: Meta/package.rds (188 bytes security) (stored 0%)
adding: Meta/Rd.rds (188 bytes security) (stored 0%)
adding: Meta/vignette.rds (188 bytes security) (stored 0%)
adding: NAMESPACE (188 bytes security) (deflated 36%)
adding: NEWS (188 bytes security) (stored 0%)
adding: R/ (256 bytes security) (stored 0%)
adding: R/ENCODExplorer (188 bytes security) (deflated 41%)
adding: R/ENCODExplorer.rdb (188 bytes security) (deflated 4%)
adding: R/ENCODExplorer.rdx (188 bytes security) (stored 0%)
adding: unitTests/ (256 bytes security) (stored 0%)
adding: unitTests/local_test_clean_table.R (188 bytes security) (deflated 56%)
adding: unitTests/local_test_extract_table.R (188 bytes security) (deflated 44%)
adding: unitTests/local_test_getDatasetDetails.R (188 bytes security) (deflated 57%)
adding: unitTests/local_test_getExperimentDetails.R (188 bytes security) (deflated 57%)
adding: unitTests/local_test_getFileDetails.R (188 bytes security) (deflated 39%)
adding: unitTests/local_test_getFileId.R (188 bytes security) (deflated 71%)
adding: unitTests/local_test_query_transform.R (188 bytes security) (deflated 69%)
adding: unitTests/Makefile (188 bytes security) (deflated 26%)
adding: unitTests/test_download.R (188 bytes security) (deflated 78%)
adding: unitTests/test_query.R (188 bytes security) (deflated 68%)
adding: unitTests/test_search.R (188 bytes security) (deflated 50%)