##############################################################################
##############################################################################
###
### Running command:
###
### cd CopywriteR.buildbin-libdir/CopywriteR && zip -r ../../CopywriteR_2.0.6.zip . & cd ../..
###
##############################################################################
##############################################################################
adding: DESCRIPTION (188 bytes security) (deflated 44%)
adding: doc/ (256 bytes security) (stored 0%)
adding: doc/CopywriteR.pdf (188 bytes security) (deflated 9%)
adding: doc/CopywriteR.R (188 bytes security) (deflated 82%)
adding: doc/CopywriteR.Rnw (188 bytes security) (deflated 65%)
adding: doc/index.html (188 bytes security) (deflated 59%)
adding: help/ (256 bytes security) (stored 0%)
adding: help/aliases.rds (188 bytes security) (stored 0%)
adding: help/AnIndex (188 bytes security) (deflated 46%)
adding: help/CopywriteR.rdb (188 bytes security) (stored 0%)
adding: help/CopywriteR.rdx (188 bytes security) (stored 0%)
adding: help/paths.rds (188 bytes security) (stored 0%)
adding: html/ (256 bytes security) (stored 0%)
adding: html/00Index.html (188 bytes security) (deflated 61%)
adding: html/R.css (188 bytes security) (deflated 75%)
adding: INDEX (188 bytes security) (deflated 63%)
adding: MD5 (188 bytes security) (deflated 43%)
adding: Meta/ (256 bytes security) (stored 0%)
adding: Meta/hsearch.rds (188 bytes security) (stored 0%)
adding: Meta/links.rds (188 bytes security) (stored 0%)
adding: Meta/nsInfo.rds (188 bytes security) (stored 0%)
adding: Meta/package.rds (188 bytes security) (stored 0%)
adding: Meta/Rd.rds (188 bytes security) (stored 0%)
adding: Meta/vignette.rds (188 bytes security) (stored 0%)
adding: NAMESPACE (188 bytes security) (deflated 44%)
adding: NEWS (188 bytes security) (deflated 64%)
adding: R/ (256 bytes security) (stored 0%)
adding: R/CopywriteR (188 bytes security) (deflated 41%)
adding: R/CopywriteR.rdb (188 bytes security) (deflated 1%)
adding: R/CopywriteR.rdx (188 bytes security) (stored 0%)