>>>>>>>
>>>>>>> INSTALLATION WITH 'R CMD INSTALL --preclean --library=tilingArray.buildbin-libdir tilingArray_1.29.0.tar.gz'
>>>>>>>
* installing *source* package 'tilingArray' ...
** libs
*** arch - i386
gcc -arch i386 -std=gnu99 -I/Library/Frameworks/R.framework/Versions/2.13/Resources/include -I/Library/Frameworks/R.framework/Versions/2.13/Resources/include/i386 -I/usr/local/include -fPIC -g -O2 -Wall -pedantic -c findsegments.c -o findsegments.o
gcc -arch i386 -std=gnu99 -I/Library/Frameworks/R.framework/Versions/2.13/Resources/include -I/Library/Frameworks/R.framework/Versions/2.13/Resources/include/i386 -I/usr/local/include -fPIC -g -O2 -Wall -pedantic -c sampleStep.c -o sampleStep.o
gcc -arch i386 -std=gnu99 -dynamiclib -Wl,-headerpad_max_install_names -undefined dynamic_lookup -single_module -multiply_defined suppress -L/usr/local/lib -o tilingArray.so findsegments.o sampleStep.o -F/Library/Frameworks/R.framework/.. -framework R -Wl,-framework -Wl,CoreFoundation
installing to /Users/biocbuild/bbs-2.8-bioc/meat/tilingArray.buildbin-libdir/tilingArray/libs/i386
*** arch - ppc
gcc -arch ppc -std=gnu99 -I/Library/Frameworks/R.framework/Versions/2.13/Resources/include -I/Library/Frameworks/R.framework/Versions/2.13/Resources/include/ppc -I/usr/local/include -fPIC -g -O2 -Wall -pedantic -c findsegments.c -o findsegments.o
gcc -arch ppc -std=gnu99 -I/Library/Frameworks/R.framework/Versions/2.13/Resources/include -I/Library/Frameworks/R.framework/Versions/2.13/Resources/include/ppc -I/usr/local/include -fPIC -g -O2 -Wall -pedantic -c sampleStep.c -o sampleStep.o
gcc -arch ppc -std=gnu99 -dynamiclib -Wl,-headerpad_max_install_names -undefined dynamic_lookup -single_module -multiply_defined suppress -L/usr/local/lib -o tilingArray.so findsegments.o sampleStep.o -F/Library/Frameworks/R.framework/.. -framework R -Wl,-framework -Wl,CoreFoundation
installing to /Users/biocbuild/bbs-2.8-bioc/meat/tilingArray.buildbin-libdir/tilingArray/libs/ppc
*** arch - x86_64
gcc -arch x86_64 -std=gnu99 -I/Library/Frameworks/R.framework/Versions/2.13/Resources/include -I/Library/Frameworks/R.framework/Versions/2.13/Resources/include/x86_64 -I/usr/local/include -fPIC -g -O2 -Wall -pedantic -c findsegments.c -o findsegments.o
gcc -arch x86_64 -std=gnu99 -I/Library/Frameworks/R.framework/Versions/2.13/Resources/include -I/Library/Frameworks/R.framework/Versions/2.13/Resources/include/x86_64 -I/usr/local/include -fPIC -g -O2 -Wall -pedantic -c sampleStep.c -o sampleStep.o
gcc -arch x86_64 -std=gnu99 -dynamiclib -Wl,-headerpad_max_install_names -undefined dynamic_lookup -single_module -multiply_defined suppress -L/usr/local/lib -o tilingArray.so findsegments.o sampleStep.o -F/Library/Frameworks/R.framework/.. -framework R -Wl,-framework -Wl,CoreFoundation
installing to /Users/biocbuild/bbs-2.8-bioc/meat/tilingArray.buildbin-libdir/tilingArray/libs/x86_64
** R
** data
** inst
** preparing package for lazy loading
Welcome to Bioconductor
Vignettes contain introductory material. To view, type
'browseVignettes()'. To cite Bioconductor, see
'citation("Biobase")' and for packages 'citation("pkgname")'.
** help
*** installing help indices
** building package indices ...
** testing if installed package can be loaded
* DONE (tilingArray)
>>>>>>>
>>>>>>> FIXING LINKS FOR tilingArray.buildbin-libdir/tilingArray/libs/i386/tilingArray.so
>>>>>>>
install_name_tool -change "/usr/local/lib/libgcc_s.1.dylib" "/Library/Frameworks/R.framework/Versions/2.13/Resources/lib/libgcc_s.1.dylib" "tilingArray.buildbin-libdir/tilingArray/libs/i386/tilingArray.so"
install_name_tool -change "/usr/local/lib/libgfortran.2.dylib" "/Library/Frameworks/R.framework/Versions/2.13/Resources/lib/libgfortran.2.dylib" "tilingArray.buildbin-libdir/tilingArray/libs/i386/tilingArray.so"
install_name_tool -change "/usr/local/lib/libreadline.5.2.dylib" "/Library/Frameworks/R.framework/Versions/2.13/Resources/lib/libreadline.5.2.dylib" "tilingArray.buildbin-libdir/tilingArray/libs/i386/tilingArray.so"
install_name_tool -change "/usr/local/lib/libreadline.dylib" "/Library/Frameworks/R.framework/Versions/2.13/Resources/lib/libreadline.dylib" "tilingArray.buildbin-libdir/tilingArray/libs/i386/tilingArray.so"
>>>>>>>
>>>>>>> FIXING LINKS FOR tilingArray.buildbin-libdir/tilingArray/libs/ppc/tilingArray.so
>>>>>>>
install_name_tool -change "/usr/local/lib/libgcc_s.1.dylib" "/Library/Frameworks/R.framework/Versions/2.13/Resources/lib/libgcc_s.1.dylib" "tilingArray.buildbin-libdir/tilingArray/libs/ppc/tilingArray.so"
install_name_tool -change "/usr/local/lib/libgfortran.2.dylib" "/Library/Frameworks/R.framework/Versions/2.13/Resources/lib/libgfortran.2.dylib" "tilingArray.buildbin-libdir/tilingArray/libs/ppc/tilingArray.so"
install_name_tool -change "/usr/local/lib/libreadline.5.2.dylib" "/Library/Frameworks/R.framework/Versions/2.13/Resources/lib/libreadline.5.2.dylib" "tilingArray.buildbin-libdir/tilingArray/libs/ppc/tilingArray.so"
install_name_tool -change "/usr/local/lib/libreadline.dylib" "/Library/Frameworks/R.framework/Versions/2.13/Resources/lib/libreadline.dylib" "tilingArray.buildbin-libdir/tilingArray/libs/ppc/tilingArray.so"
>>>>>>>
>>>>>>> FIXING LINKS FOR tilingArray.buildbin-libdir/tilingArray/libs/x86_64/tilingArray.so
>>>>>>>
install_name_tool -change "/usr/local/lib/libgcc_s.1.dylib" "/Library/Frameworks/R.framework/Versions/2.13/Resources/lib/libgcc_s.1.dylib" "tilingArray.buildbin-libdir/tilingArray/libs/x86_64/tilingArray.so"
install_name_tool -change "/usr/local/lib/libgfortran.2.dylib" "/Library/Frameworks/R.framework/Versions/2.13/Resources/lib/libgfortran.2.dylib" "tilingArray.buildbin-libdir/tilingArray/libs/x86_64/tilingArray.so"
install_name_tool -change "/usr/local/lib/libreadline.5.2.dylib" "/Library/Frameworks/R.framework/Versions/2.13/Resources/lib/libreadline.5.2.dylib" "tilingArray.buildbin-libdir/tilingArray/libs/x86_64/tilingArray.so"
install_name_tool -change "/usr/local/lib/libreadline.dylib" "/Library/Frameworks/R.framework/Versions/2.13/Resources/lib/libreadline.dylib" "tilingArray.buildbin-libdir/tilingArray/libs/x86_64/tilingArray.so"