Back to the "Multiple platform build/check report" | A B C D E F G H I J K L M N O P Q R S [T] U V W X Y Z |
Package 447/467 | Hostname | OS / Arch | BUILD | CHECK | BUILD BIN | ||||
tilingArray 1.30.0 Zhenyu Xu
| lamb1 | Linux (openSUSE 11.3) / x86_64 | OK | OK | |||||
liverpool | Windows Server 2003 R2 (32-bit) / x64 | OK | OK | OK | |||||
gewurz | Windows Server 2008 R2 Enterprise SP1 (64-bit) / x64 | OK | WARNINGS | [ OK ] | |||||
pelham | Mac OS X Leopard (10.5.8) / i386 | OK | OK | OK |
Package: tilingArray |
Version: 1.30.0 |
Command: rm -rf tilingArray.buildbin-libdir && mkdir tilingArray.buildbin-libdir && D:\biocbld\bbs-2.8-bioc\R\bin\R.exe CMD INSTALL --build --no-multiarch --library=tilingArray.buildbin-libdir tilingArray_1.30.0.tar.gz |
StartedAt: 2011-10-20 17:48:09 -0700 (Thu, 20 Oct 2011) |
EndedAt: 2011-10-20 17:48:25 -0700 (Thu, 20 Oct 2011) |
EllapsedTime: 15.1 seconds |
RetCode: 0 |
Status: OK |
PackageFile: tilingArray_1.30.0.zip |
PackageFileSize: 1.659 MiB |
* installing *source* package 'tilingArray' ... ** libs x86_64-w64-mingw32-gcc -I"D:/biocbld/bbs-2.8-bioc/R/include" -O2 -Wall -std=gnu99 -c findsegments.c -o findsegments.o x86_64-w64-mingw32-gcc -I"D:/biocbld/bbs-2.8-bioc/R/include" -O2 -Wall -std=gnu99 -c sampleStep.c -o sampleStep.o x86_64-w64-mingw32-gcc -shared -s -static-libgcc -o tilingArray.dll tmp.def findsegments.o sampleStep.o -LD:/biocbld/bbs-2.8-bioc/R/bin/x64 -lR installing to D:/biocbld/bbs-2.8-bioc/meat/tilingArray.buildbin-libdir/tilingArray/libs/x64 ** R ** data ** inst ** preparing package for lazy loading ** help *** installing help indices ** building package indices ... ** testing if installed package can be loaded * MD5 sums packaged installation of 'tilingArray' as tilingArray_1.30.0.zip * DONE (tilingArray)