Back to the "Multiple platform build/check report" | A B C D E F G H I J K L M N O [P] Q R S T U V W X Y Z |
Package 328/444 | Hostname | OS / Arch | BUILD | CHECK | BUILD BIN | ||||
prada 1.27.0 Florian Hahne
| lamb1 | Linux (openSUSE 11.3) / x86_64 | OK | OK | |||||
liverpool | Windows Server 2003 R2 (32-bit) / x64 | OK | OK | OK | |||||
gewurz | Windows Server 2008 R2 Enterprise (64-bit) / x64 | OK | OK | OK | |||||
pelham | Mac OS X Leopard (10.5.8) / i386 | OK | OK | OK | |||||
petty | Mac OS X Snow Leopard (10.6.6) / i386 | [ OK ] | OK | OK |
Package: prada |
Version: 1.27.0 |
Command: /Library/Frameworks/R.framework/Versions/2.13/Resources/bin/R CMD build prada |
StartedAt: 2011-03-17 13:34:41 -0700 (Thu, 17 Mar 2011) |
EndedAt: 2011-03-17 13:34:52 -0700 (Thu, 17 Mar 2011) |
EllapsedTime: 11.8 seconds |
RetCode: 0 |
Status: OK |
PackageFile: prada_1.27.0.tar.gz |
PackageFileSize: 727.6 KiB |
* checking for file 'prada/DESCRIPTION' ... OK * preparing 'prada': * checking DESCRIPTION meta-information ... OK * cleaning src * installing the package to re-build vignettes * creating vignettes ... OK * cleaning src * checking for LF line-endings in source and make files * checking for empty or unneeded directories * looking to see if a 'data/datalist' file should be added * building 'prada_1.27.0.tar.gz'