Back to the "Multiple platform build/check report" | A B C D E F G H I J K L M N O [P] Q R S T U V W X Y Z |
Package 348/467 | Hostname | OS / Arch | BUILD | CHECK | BUILD BIN | ||||
prada 1.28.0 Florian Hahne
| lamb1 | Linux (openSUSE 11.3) / x86_64 | OK | OK | |||||
liverpool | Windows Server 2003 R2 (32-bit) / x64 | OK | OK | [ OK ] | |||||
gewurz | Windows Server 2008 R2 Enterprise SP1 (64-bit) / x64 | OK | WARNINGS | OK | |||||
pelham | Mac OS X Leopard (10.5.8) / i386 | OK | OK | OK |
Package: prada |
Version: 1.28.0 |
Command: rm -rf prada.buildbin-libdir && mkdir prada.buildbin-libdir && E:\biocbld\bbs-2.8-bioc\R\bin\R.exe CMD INSTALL --build --no-multiarch --library=prada.buildbin-libdir prada_1.28.0.tar.gz |
StartedAt: 2011-10-20 18:00:59 -0700 (Thu, 20 Oct 2011) |
EndedAt: 2011-10-20 18:01:08 -0700 (Thu, 20 Oct 2011) |
EllapsedTime: 8.9 seconds |
RetCode: 0 |
Status: OK |
PackageFile: prada_1.28.0.zip |
PackageFileSize: 865.6 KiB |
* installing *source* package 'prada' ... ** libs gcc -I"E:/biocbld/bbs-2.8-bioc/R/include" -O3 -Wall -std=gnu99 -c inPolygon.c -o inPolygon.o gcc -shared -s -static-libgcc -o prada.dll tmp.def inPolygon.o -LE:/biocbld/bbs-2.8-bioc/R/bin/i386 -lR installing to E:/biocbld/bbs-2.8-bioc/meat/prada.buildbin-libdir/prada/libs/i386 ** R ** data ** inst ** preparing package for lazy loading Scalable Robust Estimators with High Breakdown Point (version 1.3-01) Creating a new generic function for "split" in "prada" ** help *** installing help indices ** building package indices ... ** testing if installed package can be loaded Scalable Robust Estimators with High Breakdown Point (version 1.3-01) * MD5 sums packaged installation of 'prada' as prada_1.28.0.zip * DONE (prada)