Back to the "Multiple platform build/check report" | A B C D E F G H I J K L M N [O] P Q R S T U V W X Y Z |
Package 299/444 | Hostname | OS / Arch | BUILD | CHECK | BUILD BIN | ||||
ontoTools 1.29.0 Vince Carey
| lamb1 | Linux (openSUSE 11.3) / x86_64 | OK | OK | |||||
liverpool | Windows Server 2003 R2 (32-bit) / x64 | OK | OK | OK | |||||
gewurz | Windows Server 2008 R2 Enterprise (64-bit) / x64 | OK | OK | OK | |||||
pelham | Mac OS X Leopard (10.5.8) / i386 | OK | OK | OK | |||||
petty | Mac OS X Snow Leopard (10.6.6) / i386 | OK | OK | [ OK ] |
Package: ontoTools |
Version: 1.29.0 |
Command: /Users/biocbuild/BBS/utils/build-universal.sh ontoTools_1.29.0.tar.gz /Library/Frameworks/R.framework/Versions/2.13/Resources/bin/R ontoTools.buildbin-libdir |
StartedAt: 2011-03-17 18:03:11 -0700 (Thu, 17 Mar 2011) |
EndedAt: 2011-03-17 18:03:21 -0700 (Thu, 17 Mar 2011) |
EllapsedTime: 9.9 seconds |
RetCode: 0 |
Status: OK |
PackageFile: ontoTools_1.29.0.tgz |
PackageFileSize: 3.625 MiB |
>>>>>>> >>>>>>> INSTALLATION WITH 'R CMD INSTALL --preclean --library=ontoTools.buildbin-libdir ontoTools_1.29.0.tar.gz' >>>>>>> * installing *source* package 'ontoTools' ... ** R ** data ** inst ** preparing package for lazy loading Welcome to Bioconductor Vignettes contain introductory material. To view, type 'browseVignettes()'. To cite Bioconductor, see 'citation("Biobase")' and for packages 'citation("pkgname")'. Package SparseM (0.86) loaded. To cite, see citation("SparseM") Attaching package: 'SparseM' The following object(s) are masked from 'package:base': backsolve Loading required package: DBI Creating a new generic function for "grep" in "ontoTools" ** help *** installing help indices ** building package indices ... ** testing if installed package can be loaded * DONE (ontoTools)