Back to the "Multiple platform build/check report" | A B C D E F G H I J K L M N [O] P Q R S T U V W X Y Z |
Package 319/467 | Hostname | OS / Arch | BUILD | CHECK | BUILD BIN | ||||
ontoTools 1.30.0 Vince Carey
| lamb1 | Linux (openSUSE 11.3) / x86_64 | OK | OK | |||||
liverpool | Windows Server 2003 R2 (32-bit) / x64 | OK | OK | OK | |||||
gewurz | Windows Server 2008 R2 Enterprise SP1 (64-bit) / x64 | OK | WARNINGS | OK | |||||
pelham | Mac OS X Leopard (10.5.8) / i386 | OK | OK | [ OK ] |
Package: ontoTools |
Version: 1.30.0 |
Command: rm -rf ontoTools.buildbin-libdir && mkdir ontoTools.buildbin-libdir && /Users/biocbuild/BBS/utils/build-universal.sh ontoTools_1.30.0.tar.gz /Library/Frameworks/R.framework/Versions/2.13/Resources/bin/R ontoTools.buildbin-libdir |
StartedAt: 2011-10-20 18:22:00 -0700 (Thu, 20 Oct 2011) |
EndedAt: 2011-10-20 18:22:16 -0700 (Thu, 20 Oct 2011) |
EllapsedTime: 16.2 seconds |
RetCode: 0 |
Status: OK |
PackageFile: ontoTools_1.30.0.tgz |
PackageFileSize: 3.629 MiB |
>>>>>>> >>>>>>> INSTALLATION WITH 'R CMD INSTALL --preclean --library=ontoTools.buildbin-libdir ontoTools_1.30.0.tar.gz' >>>>>>> * installing *source* package 'ontoTools' ... ** R ** data ** inst ** preparing package for lazy loading Creating a new generic function for "grep" in "ontoTools" ** help *** installing help indices ** building package indices ... ** testing if installed package can be loaded * DONE (ontoTools)