Back to the "Multiple platform build/check report" | A B C D E F G H I J K L M N O P Q R [S] T U V W X Y Z |
Package 414/444 | Hostname | OS / Arch | BUILD | CHECK | BUILD BIN | ||||
SRAdb 1.5.1 Jack Zhu
| lamb1 | Linux (openSUSE 11.3) / x86_64 | OK | OK | |||||
liverpool | Windows Server 2003 R2 (32-bit) / x64 | OK | OK | OK | |||||
gewurz | Windows Server 2008 R2 Enterprise (64-bit) / x64 | ERROR | skipped | skipped | |||||
pelham | Mac OS X Leopard (10.5.8) / i386 | OK | OK | OK | |||||
petty | Mac OS X Snow Leopard (10.6.6) / i386 | [ OK ] | OK | OK |
Package: SRAdb |
Version: 1.5.1 |
Command: /Library/Frameworks/R.framework/Versions/2.13/Resources/bin/R CMD build SRAdb |
StartedAt: 2011-03-17 14:56:58 -0700 (Thu, 17 Mar 2011) |
EndedAt: 2011-03-17 14:58:56 -0700 (Thu, 17 Mar 2011) |
EllapsedTime: 118.2 seconds |
RetCode: 0 |
Status: OK |
PackageFile: SRAdb_1.5.1.tar.gz |
PackageFileSize: 245.1 KiB |
* checking for file 'SRAdb/DESCRIPTION' ... OK * preparing 'SRAdb': * checking DESCRIPTION meta-information ... OK * installing the package to re-build vignettes * creating vignettes ... OK * checking for LF line-endings in source and make files * checking for empty or unneeded directories * building 'SRAdb_1.5.1.tar.gz'