Back to the "Multiple platform build/check report" | A B C D E F G H I J K L M N O P Q R [S] T U V W X Y Z |
Package 414/444 | Hostname | OS / Arch | BUILD | CHECK | BUILD BIN | ||||
SRAdb 1.5.1 Jack Zhu
| lamb1 | Linux (openSUSE 11.3) / x86_64 | OK | OK | |||||
liverpool | Windows Server 2003 R2 (32-bit) / x64 | OK | OK | OK | |||||
gewurz | Windows Server 2008 R2 Enterprise (64-bit) / x64 | ERROR | skipped | skipped | |||||
pelham | Mac OS X Leopard (10.5.8) / i386 | OK | OK | OK | |||||
petty | Mac OS X Snow Leopard (10.6.6) / i386 | OK | OK | [ OK ] |
Package: SRAdb |
Version: 1.5.1 |
Command: /Users/biocbuild/BBS/utils/build-universal.sh SRAdb_1.5.1.tar.gz /Library/Frameworks/R.framework/Versions/2.13/Resources/bin/R SRAdb.buildbin-libdir |
StartedAt: 2011-03-17 18:10:41 -0700 (Thu, 17 Mar 2011) |
EndedAt: 2011-03-17 18:10:48 -0700 (Thu, 17 Mar 2011) |
EllapsedTime: 6.8 seconds |
RetCode: 0 |
Status: OK |
PackageFile: SRAdb_1.5.1.tgz |
PackageFileSize: 288.6 KiB |
>>>>>>> >>>>>>> INSTALLATION WITH 'R CMD INSTALL --preclean --library=SRAdb.buildbin-libdir SRAdb_1.5.1.tar.gz' >>>>>>> * installing *source* package 'SRAdb' ... ** R ** inst ** preparing package for lazy loading Loading required package: DBI Loading required package: bitops Setting options('download.file.method'='curl') ** help *** installing help indices ** building package indices ... ** testing if installed package can be loaded Setting options('download.file.method'='curl') * DONE (SRAdb)