>>>>>>>
>>>>>>> INSTALLATION WITH 'R CMD INSTALL --preclean --library=DEGseq.buildbin-libdir DEGseq_1.6.2.tar.gz'
>>>>>>>
* installing *source* package 'DEGseq' ...
** libs
*** arch - i386
g++-4.2 -arch i386 -I/Library/Frameworks/R.framework/Versions/2.13/Resources/include -I/Library/Frameworks/R.framework/Versions/2.13/Resources/include/i386 -I/usr/local/include -fPIC -g -O2 -Wall -fasm-blocks -c getGeneExp.cpp -o getGeneExp.o
g++-4.2 -arch i386 -dynamiclib -Wl,-headerpad_max_install_names -undefined dynamic_lookup -single_module -multiply_defined suppress -L/usr/local/lib -o DEGseq.so getGeneExp.o -F/Library/Frameworks/R.framework/.. -framework R -Wl,-framework -Wl,CoreFoundation
installing to /Users/biocbuild/bbs-2.8-bioc/meat/DEGseq.buildbin-libdir/DEGseq/libs/i386
*** arch - ppc
g++-4.2 -arch ppc -I/Library/Frameworks/R.framework/Versions/2.13/Resources/include -I/Library/Frameworks/R.framework/Versions/2.13/Resources/include/ppc -I/usr/local/include -fPIC -g -O2 -Wall -fasm-blocks -c getGeneExp.cpp -o getGeneExp.o
g++-4.2 -arch ppc -dynamiclib -Wl,-headerpad_max_install_names -undefined dynamic_lookup -single_module -multiply_defined suppress -L/usr/local/lib -o DEGseq.so getGeneExp.o -F/Library/Frameworks/R.framework/.. -framework R -Wl,-framework -Wl,CoreFoundation
installing to /Users/biocbuild/bbs-2.8-bioc/meat/DEGseq.buildbin-libdir/DEGseq/libs/ppc
*** arch - x86_64
g++-4.2 -arch x86_64 -I/Library/Frameworks/R.framework/Versions/2.13/Resources/include -I/Library/Frameworks/R.framework/Versions/2.13/Resources/include/x86_64 -I/usr/local/include -fPIC -g -O2 -Wall -fasm-blocks -c getGeneExp.cpp -o getGeneExp.o
g++-4.2 -arch x86_64 -dynamiclib -Wl,-headerpad_max_install_names -undefined dynamic_lookup -single_module -multiply_defined suppress -L/usr/local/lib -o DEGseq.so getGeneExp.o -F/Library/Frameworks/R.framework/.. -framework R -Wl,-framework -Wl,CoreFoundation
installing to /Users/biocbuild/bbs-2.8-bioc/meat/DEGseq.buildbin-libdir/DEGseq/libs/x86_64
** R
** inst
** preparing package for lazy loading
** help
*** installing help indices
** building package indices ...
** testing if installed package can be loaded
* DONE (DEGseq)
>>>>>>>
>>>>>>> FIXING LINKS FOR DEGseq.buildbin-libdir/DEGseq/libs/i386/DEGseq.so
>>>>>>>
install_name_tool -change "/usr/local/lib/libgcc_s.1.dylib" "/Library/Frameworks/R.framework/Versions/2.13/Resources/lib/libgcc_s.1.dylib" "DEGseq.buildbin-libdir/DEGseq/libs/i386/DEGseq.so"
install_name_tool -change "/usr/local/lib/libgfortran.2.dylib" "/Library/Frameworks/R.framework/Versions/2.13/Resources/lib/libgfortran.2.dylib" "DEGseq.buildbin-libdir/DEGseq/libs/i386/DEGseq.so"
install_name_tool -change "/usr/local/lib/libreadline.5.2.dylib" "/Library/Frameworks/R.framework/Versions/2.13/Resources/lib/libreadline.5.2.dylib" "DEGseq.buildbin-libdir/DEGseq/libs/i386/DEGseq.so"
install_name_tool -change "/usr/local/lib/libreadline.dylib" "/Library/Frameworks/R.framework/Versions/2.13/Resources/lib/libreadline.dylib" "DEGseq.buildbin-libdir/DEGseq/libs/i386/DEGseq.so"
>>>>>>>
>>>>>>> FIXING LINKS FOR DEGseq.buildbin-libdir/DEGseq/libs/ppc/DEGseq.so
>>>>>>>
install_name_tool -change "/usr/local/lib/libgcc_s.1.dylib" "/Library/Frameworks/R.framework/Versions/2.13/Resources/lib/libgcc_s.1.dylib" "DEGseq.buildbin-libdir/DEGseq/libs/ppc/DEGseq.so"
install_name_tool -change "/usr/local/lib/libgfortran.2.dylib" "/Library/Frameworks/R.framework/Versions/2.13/Resources/lib/libgfortran.2.dylib" "DEGseq.buildbin-libdir/DEGseq/libs/ppc/DEGseq.so"
install_name_tool -change "/usr/local/lib/libreadline.5.2.dylib" "/Library/Frameworks/R.framework/Versions/2.13/Resources/lib/libreadline.5.2.dylib" "DEGseq.buildbin-libdir/DEGseq/libs/ppc/DEGseq.so"
install_name_tool -change "/usr/local/lib/libreadline.dylib" "/Library/Frameworks/R.framework/Versions/2.13/Resources/lib/libreadline.dylib" "DEGseq.buildbin-libdir/DEGseq/libs/ppc/DEGseq.so"
>>>>>>>
>>>>>>> FIXING LINKS FOR DEGseq.buildbin-libdir/DEGseq/libs/x86_64/DEGseq.so
>>>>>>>
install_name_tool -change "/usr/local/lib/libgcc_s.1.dylib" "/Library/Frameworks/R.framework/Versions/2.13/Resources/lib/libgcc_s.1.dylib" "DEGseq.buildbin-libdir/DEGseq/libs/x86_64/DEGseq.so"
install_name_tool -change "/usr/local/lib/libgfortran.2.dylib" "/Library/Frameworks/R.framework/Versions/2.13/Resources/lib/libgfortran.2.dylib" "DEGseq.buildbin-libdir/DEGseq/libs/x86_64/DEGseq.so"
install_name_tool -change "/usr/local/lib/libreadline.5.2.dylib" "/Library/Frameworks/R.framework/Versions/2.13/Resources/lib/libreadline.5.2.dylib" "DEGseq.buildbin-libdir/DEGseq/libs/x86_64/DEGseq.so"
install_name_tool -change "/usr/local/lib/libreadline.dylib" "/Library/Frameworks/R.framework/Versions/2.13/Resources/lib/libreadline.dylib" "DEGseq.buildbin-libdir/DEGseq/libs/x86_64/DEGseq.so"