Back to the "Multiple platform build/check report" | A B C [D] E F G H I J K L M N O P Q R S T U V W X Y Z |
Package 122/467 | Hostname | OS / Arch | BUILD | CHECK | BUILD BIN | ||||
DEGseq 1.6.2 Likun Wang
| lamb1 | Linux (openSUSE 11.3) / x86_64 | OK | OK | |||||
liverpool | Windows Server 2003 R2 (32-bit) / x64 | OK | OK | [ OK ] | |||||
gewurz | Windows Server 2008 R2 Enterprise SP1 (64-bit) / x64 | OK | WARNINGS | OK | |||||
pelham | Mac OS X Leopard (10.5.8) / i386 | OK | OK | OK |
Package: DEGseq |
Version: 1.6.2 |
Command: rm -rf DEGseq.buildbin-libdir && mkdir DEGseq.buildbin-libdir && E:\biocbld\bbs-2.8-bioc\R\bin\R.exe CMD INSTALL --build --no-multiarch --library=DEGseq.buildbin-libdir DEGseq_1.6.2.tar.gz |
StartedAt: 2011-10-20 17:46:28 -0700 (Thu, 20 Oct 2011) |
EndedAt: 2011-10-20 17:46:59 -0700 (Thu, 20 Oct 2011) |
EllapsedTime: 30.7 seconds |
RetCode: 0 |
Status: OK |
PackageFile: DEGseq_1.6.2.zip |
PackageFileSize: 2.226 MiB |
* installing *source* package 'DEGseq' ... ** libs g++ -I"E:/biocbld/bbs-2.8-bioc/R/include" -O2 -Wall -c getGeneExp.cpp -o getGeneExp.o g++ -shared -s -static-libgcc -o DEGseq.dll tmp.def getGeneExp.o -LE:/biocbld/bbs-2.8-bioc/R/bin/i386 -lR installing to E:/biocbld/bbs-2.8-bioc/meat/DEGseq.buildbin-libdir/DEGseq/libs/i386 ** R ** inst ** preparing package for lazy loading ** help *** installing help indices ** building package indices ... ** testing if installed package can be loaded * MD5 sums packaged installation of 'DEGseq' as DEGseq_1.6.2.zip * DONE (DEGseq)